BEGIN:VCALENDAR
VERSION:2.0
METHOD:PUBLISH
PRODID:-//Missouri State University/Calendar of Events//EN
CALSCALE:GREGORIAN
X-WR-TIMEZONE:America/Chicago
BEGIN:VTIMEZONE
TZID:America/Chicago
BEGIN:DAYLIGHT
TZOFFSETFROM:-0600
TZOFFSETTO:-0500
DTSTART:20070311T020000
RRULE:FREQ=YEARLY;BYMONTH=3;BYDAY=2SU
TZNAME:CDT
END:DAYLIGHT
BEGIN:STANDARD
TZOFFSETFROM:-0500
TZOFFSETTO:-0600
DTSTART:20071104T020000
RRULE:FREQ=YEARLY;BYMONTH=11;BYDAY=1SU
TZNAME:CST
END:STANDARD
END:VTIMEZONE
BEGIN:VEVENT
UID:1f97bc00-6529-4c2f-8679-0129173837ea.231883@calendar.missouristate.edu
CREATED:20231020T162252Z
LAST-MODIFIED:20231020T162252Z
LOCATION:Plaster Student Union\, Robert W. Lower Level
SUMMARY:Plains Indian Hand Game
DESCRIPTION:Come and join in a traditional Native American game ofdrumming
 \, singing\, guessing and hiding.\n\n\nThis events features special guest
 s Yellowhair Family (Kiowa) (Ft. Cobb\, Oklahoma) and Jeremy Shield (Crow
 ) and Haskell Indian Nations Univ. (Lawrence\, Kansas).
X-ALT-DESC;FMTTYPE=text/html:&lt;html&gt;&lt;head&gt;&lt;title&gt;&lt;/title&gt;&lt;/head&gt;&lt;body&gt;&lt;p&gt;Co
 me and join in a traditional Native American game of&lt;br&gt;drumming\, singin
 g\, guessing and hiding.&lt;/p&gt;\n&lt;p&gt;This events features special guests Yell
 owhair Family (Kiowa) (Ft. Cobb\, Oklahoma) and Jeremy Shield (Crow) and 
 Haskell Indian Nations Univ. (Lawrence\, Kansas).&lt;/p&gt;&lt;/body&gt;&lt;/html&gt;
DTSTART;TZID=America/Chicago:20231128T190000
DTEND;TZID=America/Chicago:20231128T220000
SEQUENCE:0
URL:122408.jpg
CATEGORIES:Public,Alumni,Current Students,Faculty,Future Students,Staff
END:VEVENT
END:VCALENDAR