BEGIN:VCALENDAR
VERSION:2.0
METHOD:PUBLISH
PRODID:-//Missouri State University/Calendar of Events//EN
CALSCALE:GREGORIAN
X-WR-TIMEZONE:America/Chicago
BEGIN:VTIMEZONE
TZID:America/Chicago
BEGIN:DAYLIGHT
TZOFFSETFROM:-0600
TZOFFSETTO:-0500
DTSTART:20070311T020000
RRULE:FREQ=YEARLY;BYMONTH=3;BYDAY=2SU
TZNAME:CDT
END:DAYLIGHT
BEGIN:STANDARD
TZOFFSETFROM:-0500
TZOFFSETTO:-0600
DTSTART:20071104T020000
RRULE:FREQ=YEARLY;BYMONTH=11;BYDAY=1SU
TZNAME:CST
END:STANDARD
END:VTIMEZONE
BEGIN:VEVENT
UID:f3855147-9d46-4810-8d49-771ae61b34cb.231884@calendar.missouristate.edu
CREATED:20231024T163157Z
LAST-MODIFIED:20231024T163157Z
LOCATION:Plaster Student Union\, Robert W. Ballroom &amp; Theater
SUMMARY:2023 Vietnamese Banquet &amp; Show
DESCRIPTION:Join us for the "Colors of Vietnam" show!This captivating show
  promises a vibrant exploration of Vietnamese culture\, featuring a dazzl
 ing array of cultural performances\, from traditional dances to mesmerizi
 ng music that will transport you to the heart of Vietnam. \n\n\nBut that'
 s not all - prepare your taste buds for an exquisite culinary journey wit
 h a mouthwatering selection of authentic Vietnamese dishes. 
X-ALT-DESC;FMTTYPE=text/html:&lt;html&gt;&lt;head&gt;&lt;title&gt;&lt;/title&gt;&lt;/head&gt;&lt;body&gt;&lt;p&gt;&lt;s
 pan&gt;Join us for the "Colors of Vietnam" show!&lt;/span&gt;&lt;br&gt;&lt;br&gt;&lt;span&gt;This ca
 ptivating show promises a vibrant exploration of Vietnamese culture\, fea
 turing a dazzling array of cultural performances\, from traditional dance
 s to mesmerizing music that will transport you to the heart of Vietnam. &lt;
 /span&gt;&lt;/p&gt;\n&lt;p&gt;&lt;span&gt;But that's not all - prepare your taste buds for an 
 exquisite culinary journey with a mouthwatering selection of authentic Vi
 etnamese dishes.&amp;nbsp\;&lt;/span&gt;&lt;/p&gt;&lt;/body&gt;&lt;/html&gt;
DTSTART;TZID=America/Chicago:20231111T180000
DTEND;TZID=America/Chicago:20231111T213000
SEQUENCE:0
URL:122409.jpg
CATEGORIES:Public,Alumni,Current Students,Faculty,Future Students,Staff
END:VEVENT
END:VCALENDAR