BEGIN:VCALENDAR
VERSION:2.0
METHOD:PUBLISH
PRODID:-//Missouri State University/Calendar of Events//EN
CALSCALE:GREGORIAN
X-WR-TIMEZONE:America/Chicago
BEGIN:VTIMEZONE
TZID:America/Chicago
BEGIN:DAYLIGHT
TZOFFSETFROM:-0600
TZOFFSETTO:-0500
DTSTART:20070311T020000
RRULE:FREQ=YEARLY;BYMONTH=3;BYDAY=2SU
TZNAME:CDT
END:DAYLIGHT
BEGIN:STANDARD
TZOFFSETFROM:-0500
TZOFFSETTO:-0600
DTSTART:20071104T020000
RRULE:FREQ=YEARLY;BYMONTH=11;BYDAY=1SU
TZNAME:CST
END:STANDARD
END:VTIMEZONE
BEGIN:VEVENT
UID:42842a30-e601-4c97-9626-7c55d302ac92.231887@calendar.missouristate.edu
CREATED:20231024T194055Z
LAST-MODIFIED:20231024T194055Z
LOCATION:Hammons Hall for the Performing Arts\, Juanita K.
SUMMARY:Joe Montana - Public Presentation
DESCRIPTION:Four-time Super Bowl Champion and NFL Hall of Famer\n\n\nWidel
 y considered one of the best NFL quarterbacks of all time\, Joe Montana p
 ersonifies excellence and personal integrity both on and off the field. Y
 et the word most closely associated with him is not “winner”– it’s “leade
 r.”\n\n\nThroughout his career\, Montana led the San Francisco 49ers to f
 our Super Bowl Championships. Montana won more than 70% of the games he s
 tarted during his 16-year career and he continues to be an all-time NFL l
 eader in quarterback ratings.\n\n\nMontana was named the NFL’s Most Valua
 ble Player twice and earned three Super Bowl Most Valuable Player awards.
  He was selected to eight Pro Bowls and named an All-Pro five times. He r
 etired from professional football in 1995 and was elected to the Pro Foot
 ball Hall of Fame in 2000.\n\n\nFrom the lectern\, Montana now brings les
 sons of preparation\, teamwork and performance under pressure to business
  audiences as a popular motivational speaker. In September 2005\, Montana
  released his second book\, "The Winning Spirit: 16 Timeless Principles T
 hat Drive Performance Excellence."\n\n\nMontana's visit to Missouri State
  University is proudly presented by the Missouri State University Foundat
 ion with support from KY3\, Springfield\, Missouri's NBC TV affiliate.
X-ALT-DESC;FMTTYPE=text/html:&lt;html&gt;&lt;head&gt;&lt;title&gt;&lt;/title&gt;&lt;/head&gt;&lt;body&gt;&lt;p&gt;&lt;s
 trong&gt;Four-time Super Bowl Champion and NFL Hall of Famer&lt;br&gt;&lt;/strong&gt;&lt;/p
 &gt;\n&lt;p&gt;Widely considered one of the best NFL quarterbacks of all time\, Jo
 e Montana personifies excellence and personal integrity both on and off t
 he field. Yet the word most closely associated with him is not “winner”– 
 it’s “leader.”&lt;/p&gt;\n&lt;p&gt;Throughout his career\, Montana led the San Franci
 sco 49ers to four Super Bowl Championships. Montana won more than 70% of 
 the games he started during his 16-year career and he continues to be an 
 all-time NFL leader in quarterback ratings.&lt;/p&gt;\n&lt;p&gt;Montana was named the
  NFL’s Most Valuable Player twice and earned three Super Bowl Most Valuab
 le Player awards. He was selected to eight Pro Bowls and named an All-Pro
  five times. He retired from professional football in 1995 and was electe
 d to the Pro Football Hall of Fame in 2000.&lt;/p&gt;\n&lt;p&gt;From the lectern\, Mo
 ntana now brings lessons of preparation\, teamwork and performance under 
 pressure to business audiences as a popular motivational speaker. In Sept
 ember 2005\, Montana released his second book\, "The Winning Spirit: 16 T
 imeless Principles That Drive Performance Excellence."&lt;/p&gt;\n&lt;p&gt;Montana's 
 visit to Missouri State University is proudly presented by the Missouri S
 tate University Foundation with support from KY3\, Springfield\, Missouri
 's NBC TV affiliate.&lt;/p&gt;&lt;/body&gt;&lt;/html&gt;
DTSTART;TZID=America/Chicago:20231102T190000
DTEND;TZID=America/Chicago:20231102T200000
SEQUENCE:0
URL:https://publicaffairs.missouristate.edu/2023/presenter-bio.aspx?Presen
 terID=1960
CATEGORIES:Public,Alumni,Current Students,Faculty,Future Students,Staff
END:VEVENT
END:VCALENDAR