BEGIN:VCALENDAR
VERSION:2.0
METHOD:PUBLISH
PRODID:-//Missouri State University/Calendar of Events//EN
CALSCALE:GREGORIAN
X-WR-TIMEZONE:America/Chicago
BEGIN:VTIMEZONE
TZID:America/Chicago
BEGIN:DAYLIGHT
TZOFFSETFROM:-0600
TZOFFSETTO:-0500
DTSTART:20070311T020000
RRULE:FREQ=YEARLY;BYMONTH=3;BYDAY=2SU
TZNAME:CDT
END:DAYLIGHT
BEGIN:STANDARD
TZOFFSETFROM:-0500
TZOFFSETTO:-0600
DTSTART:20071104T020000
RRULE:FREQ=YEARLY;BYMONTH=11;BYDAY=1SU
TZNAME:CST
END:STANDARD
END:VTIMEZONE
BEGIN:VEVENT
UID:930e44d7-cce5-498e-9b37-4a82b2bbb56a.231889@calendar.missouristate.edu
CREATED:20231023T182134Z
LAST-MODIFIED:20231023T182134Z
LOCATION:Siceluff Hall 126
SUMMARY:RCASH Research Symposium: "An Invitation to the Graphic Essay: Car
 tooning as a Medium in Creative Nonfiction and Beyond" (Jennifer Murvin)
DESCRIPTION:Murvin’s presentation explores how graphic nonfiction has been
  used to examine topics ranging from climate change and political conflic
 ts to the epidemic of loneliness. Murvin will also discuss pedagogical ap
 proaches to teaching the graphic essay.\n\n\n[Download abstract.]
X-ALT-DESC;FMTTYPE=text/html:&lt;html&gt;&lt;head&gt;&lt;title&gt;&lt;/title&gt;&lt;/head&gt;&lt;body&gt;&lt;p&gt;Mu
 rvin’s presentation explores how graphic nonfiction has been used to exam
 ine topics ranging from climate change and political conflicts to the epi
 demic of loneliness. Murvin will also discuss pedagogical approaches to t
 eaching the graphic essay.&lt;/p&gt;\n&lt;p&gt;[&lt;a href="https://rcash.missouristate.
 edu/researchsymposium.htm"&gt;Download abstract&lt;/a&gt;.]&lt;/p&gt;\n&lt;p&gt;&lt;/p&gt;&lt;/body&gt;&lt;/h
 tml&gt;
DTSTART;TZID=America/Chicago:20231027T121500
DTEND;TZID=America/Chicago:20231027T131500
SEQUENCE:0
URL:https://rcash.missouristate.edu/researchsymposium.htm
CATEGORIES:Public,Alumni,Current Students,Faculty,Future Students,Staff
END:VEVENT
END:VCALENDAR