BEGIN:VCALENDAR
VERSION:2.0
METHOD:PUBLISH
PRODID:-//Missouri State University/Calendar of Events//EN
CALSCALE:GREGORIAN
X-WR-TIMEZONE:America/Chicago
BEGIN:VTIMEZONE
TZID:America/Chicago
BEGIN:DAYLIGHT
TZOFFSETFROM:-0600
TZOFFSETTO:-0500
DTSTART:20070311T020000
RRULE:FREQ=YEARLY;BYMONTH=3;BYDAY=2SU
TZNAME:CDT
END:DAYLIGHT
BEGIN:STANDARD
TZOFFSETFROM:-0500
TZOFFSETTO:-0600
DTSTART:20071104T020000
RRULE:FREQ=YEARLY;BYMONTH=11;BYDAY=1SU
TZNAME:CST
END:STANDARD
END:VTIMEZONE
BEGIN:VEVENT
UID:6e2c4004-b172-40dc-ab03-718720c11fd2.231891@calendar.missouristate.edu
CREATED:20231023T183206Z
LAST-MODIFIED:20231023T183206Z
LOCATION:Siceluff Hall 126
SUMMARY:RCASH Research Symposium: "Threats to Private Property and the Dev
 elopment of Tax Systems in Latin America" (Dr. Gabriel Ondetti)
DESCRIPTION:Dr. Ondetti examines how tax revenues across Latin America hav
 e varied over recent decades. His talk is based on his book “Property Thr
 eats and the Politics of Anti-Statism: The Historical Roots of Contempora
 ry Tax Systems in Latin America.”\n\n\nOndetti illustrates his research u
 sing the examples of Argentina\, Brazil\, Chile and Mexico.\n\n\n[Downloa
 d abstract.]
X-ALT-DESC;FMTTYPE=text/html:&lt;html&gt;&lt;head&gt;&lt;title&gt;&lt;/title&gt;&lt;/head&gt;&lt;body&gt;&lt;p&gt;Dr
 . Ondetti examines how tax revenues across Latin America have varied over
  recent decades. His talk is based on his book “Property Threats and the 
 Politics of Anti-Statism: The Historical Roots of Contemporary Tax System
 s in Latin America.”&lt;/p&gt;\n&lt;p&gt;Ondetti illustrates his research using the e
 xamples of Argentina\, Brazil\, Chile and Mexico.&lt;/p&gt;\n&lt;p&gt;[&lt;a href="https
 ://rcash.missouristate.edu/researchsymposium.htm"&gt;Download abstract&lt;/a&gt;.]
 &lt;/p&gt;\n&lt;p&gt;&lt;/p&gt;&lt;/body&gt;&lt;/html&gt;
DTSTART;TZID=America/Chicago:20240125T121500
DTEND;TZID=America/Chicago:20240125T131500
SEQUENCE:0
URL:https://rcash.missouristate.edu/researchsymposium.htm
CATEGORIES:Public,Alumni,Current Students,Faculty,Future Students,Staff
END:VEVENT
END:VCALENDAR