BEGIN:VCALENDAR
VERSION:2.0
METHOD:PUBLISH
PRODID:-//Missouri State University/Calendar of Events//EN
CALSCALE:GREGORIAN
X-WR-TIMEZONE:America/Chicago
BEGIN:VTIMEZONE
TZID:America/Chicago
BEGIN:DAYLIGHT
TZOFFSETFROM:-0600
TZOFFSETTO:-0500
DTSTART:20070311T020000
RRULE:FREQ=YEARLY;BYMONTH=3;BYDAY=2SU
TZNAME:CDT
END:DAYLIGHT
BEGIN:STANDARD
TZOFFSETFROM:-0500
TZOFFSETTO:-0600
DTSTART:20071104T020000
RRULE:FREQ=YEARLY;BYMONTH=11;BYDAY=1SU
TZNAME:CST
END:STANDARD
END:VTIMEZONE
BEGIN:VEVENT
UID:b634b05a-983b-4c94-9bc4-25dd2b8ebc19.231892@calendar.missouristate.edu
CREATED:20231023T183729Z
LAST-MODIFIED:20231023T183729Z
LOCATION:Siceluff Hall 126
SUMMARY:RCASH Research Symposium: "Ludic Communities: Toward a New History
  of Theatre in the Early Middle Ages" (Dr. Kyle A. Thomas)
DESCRIPTION:Dr. Thomas' presentation explains how the historical narrative
  of theatre in the western world neglects the Middle Ages\, presupposing 
 that theatre was virtually non-existent during that era.\n\n\nInstead\, T
 homas presents new research that identifies monastic communities as cente
 rs of dramatic experimentation in the early medieval period\, demonstrati
 ng how theatre and drama during the Middle Ages underwent significant cul
 tural and dramaturgical shifts.\n\n\n[Download abstract.]
X-ALT-DESC;FMTTYPE=text/html:&lt;html&gt;&lt;head&gt;&lt;title&gt;&lt;/title&gt;&lt;/head&gt;&lt;body&gt;&lt;p&gt;Dr
 . Thomas' presentation explains how the historical narrative of theatre i
 n the western world neglects the Middle Ages\, presupposing that theatre 
 was virtually non-existent during that era.&lt;/p&gt;\n&lt;p&gt;Instead\, Thomas pres
 ents new research that identifies monastic communities as centers of dram
 atic experimentation in the early medieval period\, demonstrating how the
 atre and drama during the Middle Ages underwent significant cultural and 
 dramaturgical shifts.&lt;/p&gt;\n&lt;p&gt;[&lt;a href="https://rcash.missouristate.edu/r
 esearchsymposium.htm"&gt;Download abstract&lt;/a&gt;.]&lt;/p&gt;\n&lt;p&gt;&lt;/p&gt;&lt;/body&gt;&lt;/html&gt;
DTSTART;TZID=America/Chicago:20240222T121500
DTEND;TZID=America/Chicago:20240222T131500
SEQUENCE:0
URL:https://rcash.missouristate.edu/researchsymposium.htm
CATEGORIES:Public,Alumni,Current Students,Faculty,Future Students,Staff
END:VEVENT
END:VCALENDAR