BEGIN:VCALENDAR
VERSION:2.0
METHOD:PUBLISH
PRODID:-//Missouri State University/Calendar of Events//EN
CALSCALE:GREGORIAN
X-WR-TIMEZONE:America/Chicago
BEGIN:VTIMEZONE
TZID:America/Chicago
BEGIN:DAYLIGHT
TZOFFSETFROM:-0600
TZOFFSETTO:-0500
DTSTART:20070311T020000
RRULE:FREQ=YEARLY;BYMONTH=3;BYDAY=2SU
TZNAME:CDT
END:DAYLIGHT
BEGIN:STANDARD
TZOFFSETFROM:-0500
TZOFFSETTO:-0600
DTSTART:20071104T020000
RRULE:FREQ=YEARLY;BYMONTH=11;BYDAY=1SU
TZNAME:CST
END:STANDARD
END:VTIMEZONE
BEGIN:VEVENT
UID:f1a5b0b3-1afc-4dbe-b3dc-608c0fe7fac4.231893@calendar.missouristate.edu
CREATED:20231023T183940Z
LAST-MODIFIED:20231023T183940Z
LOCATION:Siceluff Hall 126
SUMMARY:RCASH Research Symposium: "The Art of the Deal: Painting\, Patrona
 ge\, and International Business in Fifteenth-Century Flanders" (Dr. Mitzi
  Kirkland-Ives)
DESCRIPTION:Dr. Kirkland-Ives examines how the business world of fifteenth
 -century Flanders created an emerging social class of urban entrepreneurs
  who became the clients of artist Hans Memling. Kirkland-Ives weaves an i
 ntriguing tale of merchants\, bankers\, diplomats\, piracy and murder to 
 highlight Memling’s place in fifteenth-century art history.\n\n\n[Downloa
 d abstract.]
X-ALT-DESC;FMTTYPE=text/html:&lt;html&gt;&lt;head&gt;&lt;title&gt;&lt;/title&gt;&lt;/head&gt;&lt;body&gt;&lt;p&gt;Dr
 . Kirkland-Ives examines how the business world of fifteenth-century Flan
 ders created an emerging social class of urban entrepreneurs who became t
 he clients of artist Hans Memling. Kirkland-Ives weaves an intriguing tal
 e of merchants\, bankers\, diplomats\, piracy and murder to highlight Mem
 ling’s place in fifteenth-century art history.&lt;/p&gt;\n&lt;p&gt;[&lt;a href="https://
 rcash.missouristate.edu/researchsymposium.htm"&gt;Download abstract&lt;/a&gt;.]&lt;/p
 &gt;\n&lt;p&gt;&lt;/p&gt;&lt;/body&gt;&lt;/html&gt;
DTSTART;TZID=America/Chicago:20240328T121500
DTEND;TZID=America/Chicago:20240328T131500
SEQUENCE:0
URL:https://rcash.missouristate.edu/researchsymposium.htm
CATEGORIES:Public,Alumni,Current Students,Faculty,Future Students,Staff
END:VEVENT
END:VCALENDAR