BEGIN:VCALENDAR
VERSION:2.0
METHOD:PUBLISH
PRODID:-//Missouri State University/Calendar of Events//EN
CALSCALE:GREGORIAN
X-WR-TIMEZONE:America/Chicago
BEGIN:VTIMEZONE
TZID:America/Chicago
BEGIN:DAYLIGHT
TZOFFSETFROM:-0600
TZOFFSETTO:-0500
DTSTART:20070311T020000
RRULE:FREQ=YEARLY;BYMONTH=3;BYDAY=2SU
TZNAME:CDT
END:DAYLIGHT
BEGIN:STANDARD
TZOFFSETFROM:-0500
TZOFFSETTO:-0600
DTSTART:20071104T020000
RRULE:FREQ=YEARLY;BYMONTH=11;BYDAY=1SU
TZNAME:CST
END:STANDARD
END:VTIMEZONE
BEGIN:VEVENT
UID:836f105e-1ef6-470c-bc4c-8e234827f70a.231894@calendar.missouristate.edu
CREATED:20231023T184219Z
LAST-MODIFIED:20231023T184219Z
LOCATION:Siceluff Hall 126
SUMMARY:RCASH Research Symposium: "An Examination of the County-level Poli
 tical Considerations Associated with Declining Reliance on the Death Pena
 lty from 1990 to 2010" (Dr. Ethan Amidon)
DESCRIPTION:Dr. Amidon will discuss his findings on whether the variables 
 derived from three political perspectives are associated with the use of 
 death sentences. His research looks at over 2\,500 counties across the Un
 ited States from 1990 to 2010.\n\n\n[Download abstract.]
X-ALT-DESC;FMTTYPE=text/html:&lt;html&gt;&lt;head&gt;&lt;title&gt;&lt;/title&gt;&lt;/head&gt;&lt;body&gt;&lt;p&gt;Dr
 . Amidon will discuss his findings on whether the variables derived from 
 three political perspectives are associated with the use of death sentenc
 es. His research looks at over 2\,500 counties across the United States f
 rom 1990 to 2010.&lt;/p&gt;\n&lt;p&gt;[&lt;a href="https://rcash.missouristate.edu/resea
 rchsymposium.htm"&gt;Download abstract&lt;/a&gt;.]&lt;/p&gt;\n&lt;p&gt;&lt;/p&gt;&lt;/body&gt;&lt;/html&gt;
DTSTART;TZID=America/Chicago:20240425T121500
DTEND;TZID=America/Chicago:20240425T131500
SEQUENCE:0
URL:https://rcash.missouristate.edu/researchsymposium.htm
CATEGORIES:Public,Alumni,Current Students,Faculty,Future Students,Staff
END:VEVENT
END:VCALENDAR