BEGIN:VCALENDAR
VERSION:2.0
METHOD:PUBLISH
PRODID:-//Missouri State University/Calendar of Events//EN
CALSCALE:GREGORIAN
X-WR-TIMEZONE:America/Chicago
BEGIN:VTIMEZONE
TZID:America/Chicago
BEGIN:DAYLIGHT
TZOFFSETFROM:-0600
TZOFFSETTO:-0500
DTSTART:20070311T020000
RRULE:FREQ=YEARLY;BYMONTH=3;BYDAY=2SU
TZNAME:CDT
END:DAYLIGHT
BEGIN:STANDARD
TZOFFSETFROM:-0500
TZOFFSETTO:-0600
DTSTART:20071104T020000
RRULE:FREQ=YEARLY;BYMONTH=11;BYDAY=1SU
TZNAME:CST
END:STANDARD
END:VTIMEZONE
BEGIN:VEVENT
UID:00000000-0000-0000-0000-000000000000.231896@calendar.missouristate.edu
CREATED:20231023T224532Z
LAST-MODIFIED:20231023T224532Z
LOCATION:To Be Determined
SUMMARY:SOLD OUT  - 2023 Step Up To The Plate
DESCRIPTION:Join Missouri State baseball for Step Up to the Plate\, with a
  special holiday event\, “The Wizard of Oz\,” Ozzie Smith\, Wed.\, Dec. 6
 \, at The Old Glass Place in Springfield.
X-ALT-DESC;FMTTYPE=text/html:&lt;html&gt;&lt;head&gt;&lt;title&gt;&lt;/title&gt;&lt;/head&gt;&lt;body&gt;Join 
 Missouri State baseball for Step Up to the Plate\, with a special holiday
  event\, &amp;ldquo\;The Wizard of Oz\,&amp;rdquo\; Ozzie Smith\, Wed.\, Dec. 6\,
  at The Old Glass Place in Springfield.&lt;/body&gt;&lt;/html&gt;
DTSTART;TZID=America/Chicago:20231206T170000
DTEND;TZID=America/Chicago:20231206T210000
SEQUENCE:0
URL:https://missouristate.imodules.com?sid=1691&amp;gid=2&amp;pgid=3407&amp;cid=5909&amp;e
 cid=5909&amp;ciid=20522&amp;crid=0
CATEGORIES:Public,Alumni,Parents and Family,Visitors
END:VEVENT
END:VCALENDAR