BEGIN:VCALENDAR
VERSION:2.0
METHOD:PUBLISH
PRODID:-//Missouri State University/Calendar of Events//EN
CALSCALE:GREGORIAN
X-WR-TIMEZONE:America/Chicago
BEGIN:VTIMEZONE
TZID:America/Chicago
BEGIN:DAYLIGHT
TZOFFSETFROM:-0600
TZOFFSETTO:-0500
DTSTART:20070311T020000
RRULE:FREQ=YEARLY;BYMONTH=3;BYDAY=2SU
TZNAME:CDT
END:DAYLIGHT
BEGIN:STANDARD
TZOFFSETFROM:-0500
TZOFFSETTO:-0600
DTSTART:20071104T020000
RRULE:FREQ=YEARLY;BYMONTH=11;BYDAY=1SU
TZNAME:CST
END:STANDARD
END:VTIMEZONE
BEGIN:VEVENT
UID:00000000-0000-0000-0000-000000000000.232023@calendar.missouristate.edu
CREATED:20231025T174532Z
LAST-MODIFIED:20231025T174532Z
LOCATION:To Be Determined
SUMMARY:Springfield Alumni Chapter Bears Board Game Night
DESCRIPTION:Grab your coziest BearWear and join the Springfield Alumni Cha
 pter for Bears Board Game Night on Nov. 14! Enjoy drinks and snacks while
  you play a wide selection of board games with fellow Bears\, friends and
  family.
X-ALT-DESC;FMTTYPE=text/html:&lt;html&gt;&lt;head&gt;&lt;title&gt;&lt;/title&gt;&lt;/head&gt;&lt;body&gt;Grab 
 your coziest BearWear and join the Springfield Alumni Chapter for Bears B
 oard Game Night on Nov. 14! Enjoy drinks and snacks while you play a wide
  selection of board games with fellow Bears\, friends and family.&lt;br&gt;&lt;/bo
 dy&gt;&lt;/html&gt;
DTSTART;TZID=America/Chicago:20231114T183000
DTEND;TZID=America/Chicago:20231114T203000
SEQUENCE:0
URL:https://missouristate.imodules.com?sid=1691&amp;gid=2&amp;pgid=3383&amp;cid=5878&amp;e
 cid=5878&amp;ciid=20043&amp;crid=0
CATEGORIES:Public,Alumni,Parents and Family,Visitors
END:VEVENT
END:VCALENDAR