BEGIN:VCALENDAR
VERSION:2.0
METHOD:PUBLISH
PRODID:-//Missouri State University/Calendar of Events//EN
CALSCALE:GREGORIAN
X-WR-TIMEZONE:America/Chicago
BEGIN:VTIMEZONE
TZID:America/Chicago
BEGIN:DAYLIGHT
TZOFFSETFROM:-0600
TZOFFSETTO:-0500
DTSTART:20070311T020000
RRULE:FREQ=YEARLY;BYMONTH=3;BYDAY=2SU
TZNAME:CDT
END:DAYLIGHT
BEGIN:STANDARD
TZOFFSETFROM:-0500
TZOFFSETTO:-0600
DTSTART:20071104T020000
RRULE:FREQ=YEARLY;BYMONTH=11;BYDAY=1SU
TZNAME:CST
END:STANDARD
END:VTIMEZONE
BEGIN:VEVENT
UID:8a80063e-dd7c-4ee3-9fd6-8c7f11f899b5.232027@calendar.missouristate.edu
CREATED:20231025T192942Z
LAST-MODIFIED:20231025T192942Z
LOCATION:Hammons Student Center\, John Q.
SUMMARY:Volleyball Fanny Pack/Belt Bag Giveaway
DESCRIPTION:Missouri State vs. Bradley! Come cheer on our Lady Bears Volle
 yball and receive a fanny pack/belt bag!
X-ALT-DESC;FMTTYPE=text/html:&lt;html&gt;&lt;head&gt;&lt;title&gt;&lt;/title&gt;&lt;/head&gt;&lt;body&gt;&lt;p&gt;Mi
 ssouri State vs. Bradley! Come cheer on our Lady Bears Volleyball and rec
 eive a fanny pack/belt bag!&lt;/p&gt;&lt;/body&gt;&lt;/html&gt;
DTSTART;TZID=America/Chicago:20231110T000000
DTEND;TZID=America/Chicago:20231110T000000
SEQUENCE:0
URL:122431.jpg
CATEGORIES:Current Students
END:VEVENT
END:VCALENDAR