BEGIN:VCALENDAR
VERSION:2.0
METHOD:PUBLISH
PRODID:-//Missouri State University/Calendar of Events//EN
CALSCALE:GREGORIAN
X-WR-TIMEZONE:America/Chicago
BEGIN:VTIMEZONE
TZID:America/Chicago
BEGIN:DAYLIGHT
TZOFFSETFROM:-0600
TZOFFSETTO:-0500
DTSTART:20070311T020000
RRULE:FREQ=YEARLY;BYMONTH=3;BYDAY=2SU
TZNAME:CDT
END:DAYLIGHT
BEGIN:STANDARD
TZOFFSETFROM:-0500
TZOFFSETTO:-0600
DTSTART:20071104T020000
RRULE:FREQ=YEARLY;BYMONTH=11;BYDAY=1SU
TZNAME:CST
END:STANDARD
END:VTIMEZONE
BEGIN:VEVENT
UID:8c56fddb-978f-4e17-b6a3-66f419e7dfcc.232069@calendar.missouristate.edu
CREATED:20231025T200244Z
LAST-MODIFIED:20231025T200244Z
LOCATION:Great Southern Bank Arena
SUMMARY:Rave in the Cave
DESCRIPTION:There will be poster decoration\, FREE CREWNECKS\, pizza\, dri
 nks\, and free promotional items for all MSU students.\n\n\nOne organizat
 ion from Residence Life\, Fraternity and Sorority Life\, and Student Orga
 nizations with the highest percentage of members from each category liste
 d will receive a $500 Visa gift card.\n\n\nThere will be multiple perform
 ances\, and students will be able to meet players from both the MSU men's
  and women's basketball teams.\n\n\nStudents will also have a chance at p
 rizes by participating in various activities throughout the event. 
X-ALT-DESC;FMTTYPE=text/html:&lt;html&gt;&lt;head&gt;&lt;title&gt;&lt;/title&gt;&lt;/head&gt;&lt;body&gt;&lt;p&gt;Th
 ere will be poster decoration\, FREE CREWNECKS\, pizza\, drinks\, and fre
 e promotional items for all MSU students.&lt;/p&gt;\n&lt;p&gt;One organization from R
 esidence Life\, Fraternity and Sorority Life\, and Student Organizations 
 with the highest percentage of members from each category listed will rec
 eive a $500 Visa gift card.&lt;/p&gt;\n&lt;p&gt;There will be multiple performances\,
  and students will be able to meet players from both the MSU men's and wo
 men's basketball teams.&lt;/p&gt;\n&lt;p&gt;Students will also have a chance at prize
 s by participating in various activities throughout the event.&amp;nbsp\;&lt;/p&gt;
 &lt;/body&gt;&lt;/html&gt;
DTSTART;TZID=America/Chicago:20231108T000000
DTEND;TZID=America/Chicago:20231108T000000
SEQUENCE:0
URL:122433.jpg
CATEGORIES:Public,Alumni,Current Students
END:VEVENT
END:VCALENDAR