BEGIN:VCALENDAR
VERSION:2.0
METHOD:PUBLISH
PRODID:-//Missouri State University/Calendar of Events//EN
CALSCALE:GREGORIAN
X-WR-TIMEZONE:America/Chicago
BEGIN:VTIMEZONE
TZID:America/Chicago
BEGIN:DAYLIGHT
TZOFFSETFROM:-0600
TZOFFSETTO:-0500
DTSTART:20070311T020000
RRULE:FREQ=YEARLY;BYMONTH=3;BYDAY=2SU
TZNAME:CDT
END:DAYLIGHT
BEGIN:STANDARD
TZOFFSETFROM:-0500
TZOFFSETTO:-0600
DTSTART:20071104T020000
RRULE:FREQ=YEARLY;BYMONTH=11;BYDAY=1SU
TZNAME:CST
END:STANDARD
END:VTIMEZONE
BEGIN:VEVENT
UID:72708700-061d-4338-b4de-e5e6b069a166.232160@calendar.missouristate.edu
CREATED:20231027T051510Z
LAST-MODIFIED:20231027T051510Z
LOCATION:Killian Softball Complex
SUMMARY:Missouri State University Softball vs Murray State - Postgame East
 er Egg Hunt
DESCRIPTION:Missouri State University Softball hosts Murray State - Postga
 me Easter Egg Hunt
X-ALT-DESC;FMTTYPE=text/html:&lt;html&gt;&lt;head&gt;&lt;title&gt;&lt;/title&gt;&lt;/head&gt;&lt;body&gt;Misso
 uri State University Softball hosts Murray State - Postgame Easter Egg Hu
 nt&lt;/body&gt;&lt;/html&gt;
DTSTART;TZID=America/Chicago:20240330T120000
DTEND;TZID=America/Chicago:20240330T140000
SEQUENCE:0
URL:http://missouristatebears.com/index.aspx?path=softball
CATEGORIES:Current Students,Future Students,Parents and Family,Alumni,
 Faculty,Staff,Community,Visitors,Athletics
END:VEVENT
END:VCALENDAR