BEGIN:VCALENDAR
VERSION:2.0
METHOD:PUBLISH
PRODID:-//Missouri State University/Calendar of Events//EN
CALSCALE:GREGORIAN
X-WR-TIMEZONE:America/Chicago
BEGIN:VTIMEZONE
TZID:America/Chicago
BEGIN:DAYLIGHT
TZOFFSETFROM:-0600
TZOFFSETTO:-0500
DTSTART:20070311T020000
RRULE:FREQ=YEARLY;BYMONTH=3;BYDAY=2SU
TZNAME:CDT
END:DAYLIGHT
BEGIN:STANDARD
TZOFFSETFROM:-0500
TZOFFSETTO:-0600
DTSTART:20071104T020000
RRULE:FREQ=YEARLY;BYMONTH=11;BYDAY=1SU
TZNAME:CST
END:STANDARD
END:VTIMEZONE
BEGIN:VEVENT
UID:00000000-0000-0000-0000-000000000000.232183@calendar.missouristate.edu
CREATED:20231027T184526Z
LAST-MODIFIED:20231027T184526Z
LOCATION:To Be Determined
SUMMARY:Washington D.C. Alumni Chapter Holiday Party
DESCRIPTION:Join fellow alumni in Washington DC for a holiday happy hour. 
 Raise a glass with fellow DC Alumni and share fond memories with Clif bef
 ore he embarks on his retirement journey. 
X-ALT-DESC;FMTTYPE=text/html:&lt;html&gt;&lt;head&gt;&lt;title&gt;&lt;/title&gt;&lt;/head&gt;&lt;body&gt;Join 
 fellow alumni in Washington DC for a holiday happy hour. Raise a glass wi
 th fellow DC Alumni and share fond memories with Clif before he embarks o
 n his retirement journey.&amp;nbsp\;&lt;/body&gt;&lt;/html&gt;
DTSTART;TZID=America/Chicago:20231204T173000
DTEND;TZID=America/Chicago:20231204T193000
SEQUENCE:0
URL:https://missouristate.imodules.com?sid=1691&amp;gid=2&amp;pgid=3413&amp;cid=5918&amp;e
 cid=5918&amp;ciid=20423&amp;crid=0
CATEGORIES:Public,Alumni,Parents and Family,Visitors
END:VEVENT
END:VCALENDAR