BEGIN:VCALENDAR
VERSION:2.0
METHOD:PUBLISH
PRODID:-//Missouri State University/Calendar of Events//EN
CALSCALE:GREGORIAN
X-WR-TIMEZONE:America/Chicago
BEGIN:VTIMEZONE
TZID:America/Chicago
BEGIN:DAYLIGHT
TZOFFSETFROM:-0600
TZOFFSETTO:-0500
DTSTART:20070311T020000
RRULE:FREQ=YEARLY;BYMONTH=3;BYDAY=2SU
TZNAME:CDT
END:DAYLIGHT
BEGIN:STANDARD
TZOFFSETFROM:-0500
TZOFFSETTO:-0600
DTSTART:20071104T020000
RRULE:FREQ=YEARLY;BYMONTH=11;BYDAY=1SU
TZNAME:CST
END:STANDARD
END:VTIMEZONE
BEGIN:VEVENT
UID:985f4f7a-4f4d-4b8e-afc0-81a509052c87.232185@calendar.missouristate.edu
CREATED:20231106T204810Z
LAST-MODIFIED:20231106T204810Z
LOCATION:Plaster Student Union\, Robert W. 200
SUMMARY:Desi Movie Night - Zindagi Na Milegi Dobara
DESCRIPTION:We're thrilled to invite you to a special event that's making 
 campus history – our first-ever Desi Movie Night at the PSU Theater! Get 
 ready for an entertaining evening with the Bollywood hit movie\, "Zindagi
  Na Milegi Dobara" (translation: You Only Live Once!)\n\n\nSubmit your RS
 VP\n\n\nGet ready to be swept away on a journey of friendship\, adventure
  and self-discovery. "Zindagi Na Milegi Dobara" is a heartwarming story a
 bout three friends who embark on a road trip to Spain\, facing their fear
 s\, finding love and creating memories to last a lifetime.\n\n\nThis even
 t is a fantastic opportunity to immerse yourself in the magic of Bollywoo
 d cinema and share the experience with fellow South Asian students. Wheth
 er you're a seasoned Bollywood fan or new to Indian cinema\, this film pr
 omises to be a delightful and relatable cinematic adventure.\n\n\nDon't f
 orget to invite your friends and mark your calendar for an evening filled
  with laughter\, emotion and a touch of desi charm. We can't wait to enjo
 y this movie with you and celebrate our cultural heritage.\n\n\nWe look f
 orward to seeing you there. Get ready for an unforgettable movie night! I
 f you have any questions or need further information\, feel free to reach
  out and follow us on Instagram (@sasa.msu).
X-ALT-DESC;FMTTYPE=text/html:&lt;html&gt;&lt;head&gt;&lt;title&gt;&lt;/title&gt;&lt;/head&gt;&lt;body&gt;&lt;p&gt;We
 're thrilled to invite you to a special event that's making campus histor
 y – our first-ever Desi Movie Night at the PSU Theater! Get ready for an 
 entertaining evening with the Bollywood hit movie\, "Zindagi Na Milegi Do
 bara" (translation: You Only Live Once!)&lt;/p&gt;\n&lt;p&gt;&lt;a href="https://forms.o
 ffice.com/r/fwpuNkcU4N"&gt;Submit your RSVP&lt;/a&gt;&lt;/p&gt;\n&lt;p&gt;Get ready to be swep
 t away on a journey of friendship\, adventure and self-discovery. "Zindag
 i Na Milegi Dobara" is a heartwarming story about three friends who embar
 k on a road trip to Spain\, facing their fears\, finding love and creatin
 g memories to last a lifetime.&lt;/p&gt;\n&lt;p&gt;This event is a fantastic opportun
 ity to immerse yourself in the magic of Bollywood cinema and share the ex
 perience with fellow South Asian students. Whether you're a seasoned Boll
 ywood fan or new to Indian cinema\, this film promises to be a delightful
  and relatable cinematic adventure.&lt;/p&gt;\n&lt;p&gt;Don't forget to invite your f
 riends and mark your calendar for an evening filled with laughter\, emoti
 on and a touch of desi charm. We can't wait to enjoy this movie with you 
 and celebrate our cultural heritage.&lt;/p&gt;\n&lt;p&gt;We look forward to seeing yo
 u there. Get ready for an unforgettable movie night! If you have any ques
 tions or need further information\, feel free to reach out and follow us 
 on Instagram (@sasa.msu).&lt;/p&gt;&lt;/body&gt;&lt;/html&gt;
DTSTART;TZID=America/Chicago:20231110T180000
DTEND;TZID=America/Chicago:20231110T213000
SEQUENCE:0
URL:122482.png
CATEGORIES:Public,Alumni,Current Students,Faculty,Future Students,Staff
END:VEVENT
END:VCALENDAR