BEGIN:VCALENDAR
VERSION:2.0
METHOD:PUBLISH
PRODID:-//Missouri State University/Calendar of Events//EN
CALSCALE:GREGORIAN
X-WR-TIMEZONE:America/Chicago
BEGIN:VTIMEZONE
TZID:America/Chicago
BEGIN:DAYLIGHT
TZOFFSETFROM:-0600
TZOFFSETTO:-0500
DTSTART:20070311T020000
RRULE:FREQ=YEARLY;BYMONTH=3;BYDAY=2SU
TZNAME:CDT
END:DAYLIGHT
BEGIN:STANDARD
TZOFFSETFROM:-0500
TZOFFSETTO:-0600
DTSTART:20071104T020000
RRULE:FREQ=YEARLY;BYMONTH=11;BYDAY=1SU
TZNAME:CST
END:STANDARD
END:VTIMEZONE
BEGIN:VEVENT
UID:00000000-0000-0000-0000-000000000000.232188@calendar.missouristate.edu
CREATED:20231031T184530Z
LAST-MODIFIED:20231031T184530Z
LOCATION:To Be Determined
SUMMARY:Springfield Alumni Chapter Holiday Party
DESCRIPTION:Join fellow Bears and friends for a holiday party at the Histo
 ric Firehouse on Dec. 5. Enjoy an open bar and light appetizers\, craft y
 our own Bear ornaments and take pictures with Santa. Plus\, enjoy a perfo
 rmance by MSU's Hibernotes.
X-ALT-DESC;FMTTYPE=text/html:&lt;html&gt;&lt;head&gt;&lt;title&gt;&lt;/title&gt;&lt;/head&gt;&lt;body&gt;&lt;span
 &gt;Join fellow Bears and friends for a holiday party at the Historic Fireho
 use on Dec. 5. Enjoy an open bar and light appetizers\, craft your own Be
 ar ornaments and take pictures with Santa. Plus\, enjoy a performance by 
 MSU's Hibernotes.&lt;/span&gt;&lt;br&gt;&lt;/body&gt;&lt;/html&gt;
DTSTART;TZID=America/Chicago:20231205T180000
DTEND;TZID=America/Chicago:20231205T210000
SEQUENCE:0
URL:https://missouristate.imodules.com?sid=1691&amp;gid=2&amp;pgid=3419&amp;cid=5926&amp;e
 cid=5926&amp;ciid=20407&amp;crid=0
CATEGORIES:Public,Alumni,Parents and Family,Visitors
END:VEVENT
END:VCALENDAR