BEGIN:VCALENDAR
VERSION:2.0
METHOD:PUBLISH
PRODID:-//Missouri State University/Calendar of Events//EN
CALSCALE:GREGORIAN
X-WR-TIMEZONE:America/Chicago
BEGIN:VTIMEZONE
TZID:America/Chicago
BEGIN:DAYLIGHT
TZOFFSETFROM:-0600
TZOFFSETTO:-0500
DTSTART:20070311T020000
RRULE:FREQ=YEARLY;BYMONTH=3;BYDAY=2SU
TZNAME:CDT
END:DAYLIGHT
BEGIN:STANDARD
TZOFFSETFROM:-0500
TZOFFSETTO:-0600
DTSTART:20071104T020000
RRULE:FREQ=YEARLY;BYMONTH=11;BYDAY=1SU
TZNAME:CST
END:STANDARD
END:VTIMEZONE
BEGIN:VEVENT
UID:00000000-0000-0000-0000-000000000000.232190@calendar.missouristate.edu
CREATED:20231101T194522Z
LAST-MODIFIED:20231101T194522Z
LOCATION:To Be Determined
SUMMARY:Retired Faculty &amp; Staff Holiday Party
DESCRIPTION:Join us in celebrating the holiday season! Gather with fellow 
 retired faculty and staff on Nov. 30 for a festive night with drinks and 
 other refreshments. More details to come soon. 
X-ALT-DESC;FMTTYPE=text/html:&lt;html&gt;&lt;head&gt;&lt;title&gt;&lt;/title&gt;&lt;/head&gt;&lt;body&gt;Join 
 us in celebrating the holiday season! Gather with fellow retired faculty 
 and staff on Nov. 30 for a festive night with drinks and other refreshmen
 ts. More details to come soon.&amp;nbsp\;&lt;br&gt;&lt;/body&gt;&lt;/html&gt;
DTSTART;TZID=America/Chicago:20231130T100000
DTEND;TZID=America/Chicago:20231130T113000
SEQUENCE:0
URL:https://missouristate.imodules.com?sid=1691&amp;gid=2&amp;pgid=3416&amp;cid=5922&amp;e
 cid=5922&amp;ciid=20248&amp;crid=0
CATEGORIES:Public,Alumni,Parents and Family,Visitors
END:VEVENT
END:VCALENDAR