BEGIN:VCALENDAR
VERSION:2.0
METHOD:PUBLISH
PRODID:-//Missouri State University/Calendar of Events//EN
CALSCALE:GREGORIAN
X-WR-TIMEZONE:America/Chicago
BEGIN:VTIMEZONE
TZID:America/Chicago
BEGIN:DAYLIGHT
TZOFFSETFROM:-0600
TZOFFSETTO:-0500
DTSTART:20070311T020000
RRULE:FREQ=YEARLY;BYMONTH=3;BYDAY=2SU
TZNAME:CDT
END:DAYLIGHT
BEGIN:STANDARD
TZOFFSETFROM:-0500
TZOFFSETTO:-0600
DTSTART:20071104T020000
RRULE:FREQ=YEARLY;BYMONTH=11;BYDAY=1SU
TZNAME:CST
END:STANDARD
END:VTIMEZONE
BEGIN:VEVENT
UID:2d7fff94-01c2-4a09-8f70-d00f08bfb60d.232314@calendar.missouristate.edu
CREATED:20231113T155552Z
LAST-MODIFIED:20231113T155552Z
LOCATION:
SUMMARY:PAMS Seminar: "Hidden Engines: Uncovering the Workings of the Near
 est Galaxy Centers" by Dr. Elisabeth Mills
DESCRIPTION:Dr. Elisabeth MillsUniversity of KansasDepartment of Physics a
 nd Astronomy\n\n\nAbstract:Centers of galaxies are some of the most extre
 me objects in our universe: hosting starbursts and active supermassive bl
 ack holes that can launch jets and winds far outside the compact galaxy n
 ucleus. The effects of the unique interactions between stars\, gas\, and 
 black holes that occur here don’t just stay confined to these small regio
 ns: they have an outsized influence on the overall evolution of galaxies 
 as a whole. At just 8.1 kpc away\, the center of the Milky Way is unparal
 leled in its proximity\, making it the best laboratory for detailed studi
 es of the processes that govern and define galaxy nuclei. However\, the G
 alactic center also presents a big challenge for these studies: it is a r
 elatively quiet environment. Few stars are forming in this region\, and t
 he black hole is not active. Clearly\, it hasn’t always been this way: fr
 om the Fermi Bubbles to hundred-year old echoes of X-ray bursts there are
  many relics of an active past in the center of our own Milky Way. We als
 o know our Galaxy center likely won’t stay quiet for long: it contains a 
 sizable reservoir of molecular gas that is the fuel for future star forma
 tion and black hole accretion. In this talk I will present the results of
  research following the gas and its properties from kiloparsec to sub-par
 sec scales to understand why the Galactic center is so quiet right now an
 d what the future holds. Finally\, I will discuss ongoing work to increas
 e the sample size of galaxy nuclei with parsec-scale gas measurements\, a
 nd what this means for putting the Galactic center in context with its mo
 re active neighbors.\n\n\n\n\n\nThis is a Zoom seminar: https://missouris
 tate.zoom.us/j/98795331488
X-ALT-DESC;FMTTYPE=text/html:&lt;html&gt;&lt;head&gt;&lt;title&gt;&lt;/title&gt;&lt;/head&gt;&lt;body&gt;&lt;p&gt;&lt;b
 &gt;Dr.&amp;nbsp\;Elisabeth Mills&lt;/b&gt;&lt;br&gt;&lt;b&gt;University of&amp;nbsp\;Kansas&lt;/b&gt;&lt;br&gt;&lt;b
 &gt;Department of Physics and Astronomy&lt;/b&gt;&lt;/p&gt;\n&lt;p&gt;Abstract:&lt;br&gt;Centers of 
 galaxies are some of the most extreme objects in our universe: hosting st
 arbursts and active supermassive black holes that can launch jets and win
 ds far outside the compact galaxy nucleus. The effects of the unique inte
 ractions between stars\, gas\, and black holes that occur here don’t just
  stay confined to these small regions: they have an outsized influence on
  the overall evolution of galaxies as a whole. At just 8.1 kpc away\, the
  center of the Milky Way is unparalleled in its proximity\, making it the
  best laboratory for detailed studies of the processes that govern and de
 fine galaxy nuclei. However\, the Galactic center also presents a big cha
 llenge for these studies: it is a relatively quiet environment. Few stars
  are forming in this region\, and the black hole is not active. Clearly\,
  it hasn’t always been this way: from the Fermi Bubbles to hundred-year o
 ld echoes of X-ray bursts there are many relics of an active past in the 
 center of our own Milky Way. We also know our Galaxy center likely won’t 
 stay quiet for long: it contains a sizable reservoir of molecular gas tha
 t is the fuel for future star formation and black hole accretion. In this
  talk I will present the results of research following the gas and its pr
 operties from kiloparsec to sub-parsec scales to understand why the Galac
 tic center is so quiet right now and what the future holds. Finally\, I w
 ill discuss ongoing work to increase the sample size of galaxy nuclei wit
 h parsec-scale gas measurements\, and what this means for putting the Gal
 actic center in context with its more active neighbors.&lt;/p&gt;\n&lt;p&gt;&lt;/p&gt;\n&lt;p&gt;
 This is a Zoom seminar:&amp;nbsp\;https://missouristate.zoom.us/j/98795331488
 &lt;/p&gt;&lt;/body&gt;&lt;/html&gt;
DTSTART;TZID=America/Chicago:20231116T160000
DTEND;TZID=America/Chicago:20231116T170000
SEQUENCE:1
URL:https://physics.missouristate.edu/seminars.htm
CATEGORIES:Public,Alumni,Current Students,Faculty,Future Students,Staff
END:VEVENT
END:VCALENDAR