BEGIN:VCALENDAR
VERSION:2.0
METHOD:PUBLISH
PRODID:-//Missouri State University/Calendar of Events//EN
CALSCALE:GREGORIAN
X-WR-TIMEZONE:America/Chicago
BEGIN:VTIMEZONE
TZID:America/Chicago
BEGIN:DAYLIGHT
TZOFFSETFROM:-0600
TZOFFSETTO:-0500
DTSTART:20070311T020000
RRULE:FREQ=YEARLY;BYMONTH=3;BYDAY=2SU
TZNAME:CDT
END:DAYLIGHT
BEGIN:STANDARD
TZOFFSETFROM:-0500
TZOFFSETTO:-0600
DTSTART:20071104T020000
RRULE:FREQ=YEARLY;BYMONTH=11;BYDAY=1SU
TZNAME:CST
END:STANDARD
END:VTIMEZONE
BEGIN:VEVENT
UID:09a00d76-b806-41bf-8596-a0f4124df396.232320@calendar.missouristate.edu
CREATED:20231106T154505Z
LAST-MODIFIED:20231106T154505Z
LOCATION:Plaster Student Union\, Robert W. Grand Ballroom
SUMMARY:Diwali Celebration - Festival of Lights
DESCRIPTION:Join us for a joyous and culturally rich Diwali Celebration at
  Missouri State University. Diwali\, also known as the Festival of Lights
 \, is one of the most cherished festivals in South Asia\, symbolizing the
  victory of light over darkness and good over evil.Admission: Free for al
 l. (Limited to first 300 people)\nEvent Highlights:Cultural Show: Immerse
  yourself in the beauty of South Asian traditions with captivating dance\
 , music\, and artistic performances.Free Dinner: Savor a delectable South
  Asian feast\, featuring an array of traditional dishes and sweets.Lively
  Atmosphere: Experience the vibrancy and warmth of Diwali celebrations.Fr
 ee Admission: This event is open to the entire campus community\, and all
  are welcome.Don't miss this opportunity to celebrate Diwali\, learn abou
 t South Asian culture\, and create lasting memories with friends and fell
 ow students.Please RSVP here. Entry is limited to the first 300 people.We
  look forward to celebrating Diwali with you!
X-ALT-DESC;FMTTYPE=text/html:&lt;html&gt;&lt;head&gt;&lt;title&gt;&lt;/title&gt;&lt;/head&gt;&lt;body&gt;&lt;div&gt;
 Join us for a joyous and culturally rich Diwali Celebration at Missouri S
 tate University. Diwali\, also known as the Festival of Lights\, is one o
 f the most cherished festivals in South Asia\, symbolizing the victory of
  light over darkness and good over evil.&lt;br&gt;&lt;br&gt;Admission: Free for all. 
 (Limited to first 300 people)&lt;/div&gt;\n&lt;div&gt;&lt;br&gt;Event Highlights:&lt;br&gt;&lt;br&gt;Cu
 ltural Show: Immerse yourself in the beauty of South Asian traditions wit
 h captivating dance\, music\, and artistic performances.&lt;br&gt;Free Dinner: 
 Savor a delectable South Asian feast\, featuring an array of traditional 
 dishes and sweets.&lt;br&gt;Lively Atmosphere: Experience the vibrancy and warm
 th of Diwali celebrations.&lt;br&gt;Free Admission: This event is open to the e
 ntire campus community\, and all are welcome.&lt;br&gt;Don't miss this opportun
 ity to celebrate Diwali\, learn about South Asian culture\, and create la
 sting memories with friends and fellow students.&lt;br&gt;&lt;br&gt;&lt;a href="https://
 forms.office.com/r/RbHmCLpkk9"&gt;Please RSVP here&lt;/a&gt;.&amp;nbsp\;Entry is limit
 ed to the first 300 people.&lt;br&gt;&lt;br&gt;We look forward to celebrating Diwali 
 with you!&lt;/div&gt;&lt;/body&gt;&lt;/html&gt;
DTSTART;TZID=America/Chicago:20231112T180000
DTEND;TZID=America/Chicago:20231112T210000
SEQUENCE:0
URL:122498.png
CATEGORIES:Public,Alumni,Current Students,Faculty,Future Students,Staff
END:VEVENT
END:VCALENDAR