BEGIN:VCALENDAR
VERSION:2.0
METHOD:PUBLISH
PRODID:-//Missouri State University/Calendar of Events//EN
CALSCALE:GREGORIAN
X-WR-TIMEZONE:America/Chicago
BEGIN:VTIMEZONE
TZID:America/Chicago
BEGIN:DAYLIGHT
TZOFFSETFROM:-0600
TZOFFSETTO:-0500
DTSTART:20070311T020000
RRULE:FREQ=YEARLY;BYMONTH=3;BYDAY=2SU
TZNAME:CDT
END:DAYLIGHT
BEGIN:STANDARD
TZOFFSETFROM:-0500
TZOFFSETTO:-0600
DTSTART:20071104T020000
RRULE:FREQ=YEARLY;BYMONTH=11;BYDAY=1SU
TZNAME:CST
END:STANDARD
END:VTIMEZONE
BEGIN:VEVENT
UID:5740dba9-275b-4298-a088-60a471c1d7ad.232321@calendar.missouristate.edu
CREATED:20231106T145311Z
LAST-MODIFIED:20231106T145311Z
LOCATION:Plaster Student Union\, Robert W. Food Court
SUMMARY:Holiday Happenings!
DESCRIPTION:The Missouri State University Ambassadors cordially invite you
  to attend Holiday Happenings! The children and grandchildren of Missouri
  State faculty and staff will have the opportunity to decorate cookies\, 
 have their picture taken with Santa\, create holiday crafts\, play games 
 and engage in other seasonal activities.
X-ALT-DESC;FMTTYPE=text/html:&lt;html&gt;&lt;head&gt;&lt;title&gt;&lt;/title&gt;&lt;/head&gt;&lt;body&gt;&lt;p&gt;&lt;s
 pan&gt;The Missouri State University Ambassadors cordially invite you to att
 end &lt;b&gt;Holiday Happenings!&lt;/b&gt; The children and grandchildren of Missouri
  State faculty and staff will have the opportunity to decorate cookies\, 
 have their picture taken with Santa\, create holiday crafts\, play games 
 and engage in other seasonal activities.&lt;/span&gt;&lt;/p&gt;&lt;/body&gt;&lt;/html&gt;
DTSTART;TZID=America/Chicago:20231202T100000
DTEND;TZID=America/Chicago:20231202T120000
SEQUENCE:0
URL:http://www.MissouriState.edu/HolidayHappenings
CATEGORIES:Faculty,Staff
END:VEVENT
END:VCALENDAR