BEGIN:VCALENDAR
VERSION:2.0
METHOD:PUBLISH
PRODID:-//Missouri State University/Calendar of Events//EN
CALSCALE:GREGORIAN
X-WR-TIMEZONE:America/Chicago
BEGIN:VTIMEZONE
TZID:America/Chicago
BEGIN:DAYLIGHT
TZOFFSETFROM:-0600
TZOFFSETTO:-0500
DTSTART:20070311T020000
RRULE:FREQ=YEARLY;BYMONTH=3;BYDAY=2SU
TZNAME:CDT
END:DAYLIGHT
BEGIN:STANDARD
TZOFFSETFROM:-0500
TZOFFSETTO:-0600
DTSTART:20071104T020000
RRULE:FREQ=YEARLY;BYMONTH=11;BYDAY=1SU
TZNAME:CST
END:STANDARD
END:VTIMEZONE
BEGIN:VEVENT
UID:00000000-0000-0000-0000-000000000000.233009@calendar.missouristate.edu
CREATED:20231109T174533Z
LAST-MODIFIED:20231109T174533Z
LOCATION:To Be Determined
SUMMARY:Kansas City Alumni Chapter Holiday Party
DESCRIPTION:Come in from the cold and join us for a very merry holiday par
 ty on Dec. 13! Don your ugliest sweater to win a prize and sing along to 
 classic holiday tunes. Plus\, enjoy heavy appetizers and a cash bar with 
 an exclusive holiday-themed drink menu.
X-ALT-DESC;FMTTYPE=text/html:&lt;html&gt;&lt;head&gt;&lt;title&gt;&lt;/title&gt;&lt;/head&gt;&lt;body&gt;Come 
 in from the cold and join us for a very merry holiday party on Dec. 13! D
 on your ugliest sweater to win a prize and sing along to classic holiday 
 tunes. Plus\, enjoy heavy appetizers and a cash bar with an exclusive hol
 iday-themed drink menu.&lt;/body&gt;&lt;/html&gt;
DTSTART;TZID=America/Chicago:20231213T180000
DTEND;TZID=America/Chicago:20231213T210000
SEQUENCE:0
URL:https://missouristate.imodules.com?sid=1691&amp;gid=2&amp;pgid=3428&amp;cid=5938&amp;e
 cid=5938&amp;ciid=20412&amp;crid=0
CATEGORIES:Public,Alumni,Parents and Family,Visitors
END:VEVENT
END:VCALENDAR