BEGIN:VCALENDAR
VERSION:2.0
METHOD:PUBLISH
PRODID:-//Missouri State University/Calendar of Events//EN
CALSCALE:GREGORIAN
X-WR-TIMEZONE:America/Chicago
BEGIN:VTIMEZONE
TZID:America/Chicago
BEGIN:DAYLIGHT
TZOFFSETFROM:-0600
TZOFFSETTO:-0500
DTSTART:20070311T020000
RRULE:FREQ=YEARLY;BYMONTH=3;BYDAY=2SU
TZNAME:CDT
END:DAYLIGHT
BEGIN:STANDARD
TZOFFSETFROM:-0500
TZOFFSETTO:-0600
DTSTART:20071104T020000
RRULE:FREQ=YEARLY;BYMONTH=11;BYDAY=1SU
TZNAME:CST
END:STANDARD
END:VTIMEZONE
BEGIN:VEVENT
UID:a8384291-5cfd-45df-819d-80e9f875f017.233011@calendar.missouristate.edu
CREATED:20231117T213401Z
LAST-MODIFIED:20231117T213401Z
LOCATION:Plaster Student Union\, Robert W. Ballroom
SUMMARY:Rose Banquet
DESCRIPTION:A banquet to honor top academic students from Springfield Publ
 ic Schools' five high school.
X-ALT-DESC;FMTTYPE=text/html:&lt;html&gt;&lt;head&gt;&lt;title&gt;&lt;/title&gt;&lt;/head&gt;&lt;body&gt;&lt;p&gt;A 
 banquet to honor top academic students&amp;nbsp\;from Springfield Public Scho
 ols' five high school.&lt;/p&gt;&lt;/body&gt;&lt;/html&gt;
DTSTART;TZID=America/Chicago:20240321T173000
DTEND;TZID=America/Chicago:20240321T200000
SEQUENCE:0
URL:122504.png
CATEGORIES:Future Students
END:VEVENT
END:VCALENDAR