BEGIN:VCALENDAR
VERSION:2.0
METHOD:PUBLISH
PRODID:-//Missouri State University/Calendar of Events//EN
CALSCALE:GREGORIAN
X-WR-TIMEZONE:America/Chicago
BEGIN:VTIMEZONE
TZID:America/Chicago
BEGIN:DAYLIGHT
TZOFFSETFROM:-0600
TZOFFSETTO:-0500
DTSTART:20070311T020000
RRULE:FREQ=YEARLY;BYMONTH=3;BYDAY=2SU
TZNAME:CDT
END:DAYLIGHT
BEGIN:STANDARD
TZOFFSETFROM:-0500
TZOFFSETTO:-0600
DTSTART:20071104T020000
RRULE:FREQ=YEARLY;BYMONTH=11;BYDAY=1SU
TZNAME:CST
END:STANDARD
END:VTIMEZONE
BEGIN:VEVENT
UID:d6779331-37f5-4bd3-b8b1-2bbf4ec68f18.233014@calendar.missouristate.edu
CREATED:20231113T150048Z
LAST-MODIFIED:20231113T150048Z
LOCATION:
SUMMARY:LDS Interactive Chalkboard
DESCRIPTION:This is an outdoor chalkboard intended for spreading positivit
 y for all students on campus!!
X-ALT-DESC;FMTTYPE=text/html:&lt;html&gt;&lt;head&gt;&lt;title&gt;&lt;/title&gt;&lt;/head&gt;&lt;body&gt;&lt;p&gt;Th
 is is an outdoor chalkboard intended for spreading positivity for all stu
 dents on campus!!&lt;/p&gt;&lt;/body&gt;&lt;/html&gt;
DTSTART;TZID=America/Chicago:20231113T130000
DTEND;TZID=America/Chicago:20231113T160000
SEQUENCE:0
URL:https://calendar.missouristate.edu/viewevent.aspx?eventid=122507&amp;occur
 renceid=233014
CATEGORIES:Public,Current Students
END:VEVENT
END:VCALENDAR