BEGIN:VCALENDAR
VERSION:2.0
METHOD:PUBLISH
PRODID:-//Missouri State University/Calendar of Events//EN
CALSCALE:GREGORIAN
X-WR-TIMEZONE:America/Chicago
BEGIN:VTIMEZONE
TZID:America/Chicago
BEGIN:DAYLIGHT
TZOFFSETFROM:-0600
TZOFFSETTO:-0500
DTSTART:20070311T020000
RRULE:FREQ=YEARLY;BYMONTH=3;BYDAY=2SU
TZNAME:CDT
END:DAYLIGHT
BEGIN:STANDARD
TZOFFSETFROM:-0500
TZOFFSETTO:-0600
DTSTART:20071104T020000
RRULE:FREQ=YEARLY;BYMONTH=11;BYDAY=1SU
TZNAME:CST
END:STANDARD
END:VTIMEZONE
BEGIN:VEVENT
UID:a8cdeb66-d197-44e9-b092-cbbdc7393422.233021@calendar.missouristate.edu
CREATED:20231117T210742Z
LAST-MODIFIED:20231117T210742Z
LOCATION:Craig Hall Balcony Theatre
SUMMARY:Fall Dance Concert 2023: Ellipsis
DESCRIPTION:Enjoy emergent\, experimental and in-progress work from Missou
 ri State University dance students and faculty members. \n\n\nReserve fre
 e tickets.
X-ALT-DESC;FMTTYPE=text/html:&lt;html&gt;&lt;head&gt;&lt;title&gt;&lt;/title&gt;&lt;/head&gt;&lt;body&gt;&lt;p&gt;En
 joy emergent\, experimental and in-progress work from Missouri State Univ
 ersity dance students and faculty members. &lt;/p&gt;\n&lt;p&gt;&lt;a href="https://www.
 eventbrite.com/e/ellipsisfall-dance-concert-2023-tickets-729954241787?aff
 =oddtdtcreator"&gt;Reserve free tickets&lt;/a&gt;.&lt;/p&gt;&lt;/body&gt;&lt;/html&gt;
DTSTART;TZID=America/Chicago:20231115T193000
DTEND;TZID=America/Chicago:20231115T210000
SEQUENCE:0
URL:122510.jpg
CATEGORIES:Public,Current Students,Faculty,Future Students,Staff
END:VEVENT
BEGIN:VEVENT
UID:a8cdeb66-d197-44e9-b092-cbbdc7393422_11085@calendar.missouristate.edu
CREATED:20231117T210742Z
LAST-MODIFIED:20231117T210742Z
LOCATION:Craig Hall Balcony Theatre
SUMMARY:Fall Dance Concert 2023: Ellipsis
DESCRIPTION:Enjoy emergent\, experimental and in-progress work from Missou
 ri State University dance students and faculty members. \n\n\nReserve fre
 e tickets.
X-ALT-DESC;FMTTYPE=text/html:&lt;html&gt;&lt;head&gt;&lt;title&gt;&lt;/title&gt;&lt;/head&gt;&lt;body&gt;&lt;p&gt;En
 joy emergent\, experimental and in-progress work from Missouri State Univ
 ersity dance students and faculty members. &lt;/p&gt;\n&lt;p&gt;&lt;a href="https://www.
 eventbrite.com/e/ellipsisfall-dance-concert-2023-tickets-729954241787?aff
 =oddtdtcreator"&gt;Reserve free tickets&lt;/a&gt;.&lt;/p&gt;&lt;/body&gt;&lt;/html&gt;
DTSTART;TZID=America/Chicago:20231116T193000
DTEND;TZID=America/Chicago:20231116T210000
RRULE:FREQ=WEEKLY;BYDAY=WE,TH,FR;UNTIL=20231119
SEQUENCE:0
URL:122510.jpg
CATEGORIES:Public,Current Students,Faculty,Future Students,Staff
END:VEVENT
END:VCALENDAR