BEGIN:VCALENDAR
VERSION:2.0
METHOD:PUBLISH
PRODID:-//Missouri State University/Calendar of Events//EN
CALSCALE:GREGORIAN
X-WR-TIMEZONE:America/Chicago
BEGIN:VTIMEZONE
TZID:America/Chicago
BEGIN:DAYLIGHT
TZOFFSETFROM:-0600
TZOFFSETTO:-0500
DTSTART:20070311T020000
RRULE:FREQ=YEARLY;BYMONTH=3;BYDAY=2SU
TZNAME:CDT
END:DAYLIGHT
BEGIN:STANDARD
TZOFFSETFROM:-0500
TZOFFSETTO:-0600
DTSTART:20071104T020000
RRULE:FREQ=YEARLY;BYMONTH=11;BYDAY=1SU
TZNAME:CST
END:STANDARD
END:VTIMEZONE
BEGIN:VEVENT
UID:31f8c35a-31dd-44a6-aa33-e52fced149f6.233022@calendar.missouristate.edu
CREATED:20231117T212235Z
LAST-MODIFIED:20231117T212235Z
LOCATION:Plaster Free Enterprise Center\, Robert W. Jay Wasson Idea Loft
SUMMARY:Visiting Artist Lecture: Andrea Modica - Photographs
DESCRIPTION:Having used an 8X10 camera for her entire career\, Andrea Modi
 ca produces exhibition prints with the luminous\, hand-coated 19th-centur
 y platinum printing process. Seventeen books of her work have been publis
 hed. \n\n\nIn her lecture\, she will address how the equipment we use and
  the manner with which we present our work can profoundly inform content.
  Modica will share an overview of 40 years of her photography\, including
  work from her monographs Treadwell\, Minor League\, January 1\, As We Wa
 it\, Theatrum Equorum and Catholic Girl. Modica’s photographs are part of
  the collections of the Museum of Modern Art\, the Metropolitan Museum of
  Art\, the Whitney Museum of American Art\, the Brooklyn Museum\, the Phi
 ladelphia Museum of Art\, the Smithsonian American Art Museum\, the Georg
 e Eastman House and the Bibliotheque Nationale\, among others. Her solo e
 xhibitions include the San Francisco Museum of Modern Art\, the Boulder M
 useum of Contemporary Art and the San Diego Museum of Photographic Arts. 
X-ALT-DESC;FMTTYPE=text/html:&lt;html&gt;&lt;head&gt;&lt;title&gt;&lt;/title&gt;&lt;/head&gt;&lt;body&gt;&lt;div&gt;
 \n&lt;p&gt;&lt;span lang="EN-US"&gt;Having used an 8X10 camera for her entire career\
 , Andrea Modica produces exhibition prints with the luminous\, hand-coate
 d 19&lt;/span&gt;&lt;span lang="EN-US"&gt;&lt;span&gt;th&lt;/span&gt;&lt;/span&gt;&lt;span lang="EN-US"&gt;-c
 entury platinum printing process. Seventeen books of her work have been p
 ublished. &lt;/span&gt;&lt;/p&gt;\n&lt;p&gt;&lt;span lang="EN-US"&gt;In her lecture\, she will ad
 dress how the equipment we use and the manner with which we present our w
 ork can profoundly inform content. Modica will share an overview of 40 ye
 ars of her photography\, including work from her monographs &lt;/span&gt;&lt;em&gt;&lt;s
 pan lang="EN-US"&gt;Treadwell&lt;/span&gt;&lt;span lang="EN-US"&gt;\, &lt;/span&gt;&lt;span lang=
 "EN-US"&gt;Minor League&lt;/span&gt;&lt;span lang="EN-US"&gt;\, &lt;/span&gt;&lt;span lang="EN-US
 "&gt;January 1&lt;/span&gt;&lt;span lang="EN-US"&gt;\, &lt;/span&gt;&lt;span lang="EN-US"&gt;As We W
 ait&lt;/span&gt;&lt;span lang="EN-US"&gt;\, &lt;/span&gt;&lt;span lang="EN-US"&gt;Theatrum Equoru
 m&lt;/span&gt; &lt;/em&gt;&lt;span lang="EN-US"&gt;and&lt;/span&gt;&lt;span lang="EN-US"&gt; &lt;/span&gt;&lt;sp
 an lang="EN-US"&gt;&lt;em&gt;Catholic Girl&lt;/em&gt;&lt;/span&gt;&lt;span lang="EN-US"&gt;.&amp;nbsp\;&lt;
 /span&gt;&lt;span lang="EN-US"&gt;Modica’s photographs are part of the collections
  of the Museum of Modern Art\, the Metropolitan Museum of Art\, the Whitn
 ey Museum of American Art\, the Brooklyn Museum\, the Philadelphia Museum
  of Art\, the Smithsonian American Art Museum\, the George Eastman House 
 and the Bibliotheque Nationale\, among others. Her solo exhibitions inclu
 de the San Francisco Museum of Modern Art\, the Boulder Museum of Contemp
 orary Art and the San Diego Museum of Photographic Arts.&amp;nbsp\;&lt;/span&gt;&lt;/p
 &gt;\n&lt;/div&gt;\n&lt;div&gt;&lt;/div&gt;&lt;/body&gt;&lt;/html&gt;
DTSTART;TZID=America/Chicago:20240418T173000
DTEND;TZID=America/Chicago:20240418T190000
SEQUENCE:0
URL:https://art.missouristate.edu/artists-series.htm
CATEGORIES:Public,Alumni,Current Students,Faculty,Future Students,Staff
END:VEVENT
END:VCALENDAR