BEGIN:VCALENDAR
VERSION:2.0
METHOD:PUBLISH
PRODID:-//Missouri State University/Calendar of Events//EN
CALSCALE:GREGORIAN
X-WR-TIMEZONE:America/Chicago
BEGIN:VTIMEZONE
TZID:America/Chicago
BEGIN:DAYLIGHT
TZOFFSETFROM:-0600
TZOFFSETTO:-0500
DTSTART:20070311T020000
RRULE:FREQ=YEARLY;BYMONTH=3;BYDAY=2SU
TZNAME:CDT
END:DAYLIGHT
BEGIN:STANDARD
TZOFFSETFROM:-0500
TZOFFSETTO:-0600
DTSTART:20071104T020000
RRULE:FREQ=YEARLY;BYMONTH=11;BYDAY=1SU
TZNAME:CST
END:STANDARD
END:VTIMEZONE
BEGIN:VEVENT
UID:4186711d-567e-489d-af2c-ee4777132e63.233023@calendar.missouristate.edu
CREATED:20231113T215608Z
LAST-MODIFIED:20231113T215608Z
LOCATION:Blair-Shannon House Dining Center
SUMMARY:President's Finals Breakfast
DESCRIPTION:Finals week can be a stressful time\, so come spend time with 
 friends\, enjoy great food\, and possibly win one of several great prizes
  including:\n\n\n\n$25 MSU Bookstore gift cards\nChick-Fil-A meal voucher
 s\nOwala Insulated Water Bottle\nBluetooth Speaker\n\nThere is no cost to
  you\, but please bring your BearPass ID and come hungry. You may enter t
 hrough the Blair entry doors.
X-ALT-DESC;FMTTYPE=text/html:&lt;html&gt;&lt;head&gt;&lt;title&gt;&lt;/title&gt;&lt;/head&gt;&lt;body&gt;&lt;p&gt;Fi
 nals week can be a stressful time\, so come spend time with friends\, enj
 oy great food\, and possibly win one of several great prizes including:&lt;/
 p&gt;\n&lt;ul&gt;\n&lt;li&gt;$25 MSU Bookstore gift cards&lt;/li&gt;\n&lt;li&gt;Chick-Fil-A meal vou
 chers&lt;/li&gt;\n&lt;li&gt;Owala Insulated Water Bottle&lt;/li&gt;\n&lt;li&gt;Bluetooth Speaker&lt;
 /li&gt;\n&lt;/ul&gt;\n&lt;p&gt;There is no cost to you\, but please bring your BearPass 
 ID and come hungry. You may enter through the Blair entry doors.&lt;/p&gt;&lt;/bod
 y&gt;&lt;/html&gt;
DTSTART;TZID=America/Chicago:20231211T210000
DTEND;TZID=America/Chicago:20231211T230000
SEQUENCE:0
URL:https://calendar.missouristate.edu/viewevent.aspx?eventid=122512&amp;occur
 renceid=233023
CATEGORIES:Current Students
END:VEVENT
END:VCALENDAR