BEGIN:VCALENDAR
VERSION:2.0
METHOD:PUBLISH
PRODID:-//Missouri State University/Calendar of Events//EN
CALSCALE:GREGORIAN
X-WR-TIMEZONE:America/Chicago
BEGIN:VTIMEZONE
TZID:America/Chicago
BEGIN:DAYLIGHT
TZOFFSETFROM:-0600
TZOFFSETTO:-0500
DTSTART:20070311T020000
RRULE:FREQ=YEARLY;BYMONTH=3;BYDAY=2SU
TZNAME:CDT
END:DAYLIGHT
BEGIN:STANDARD
TZOFFSETFROM:-0500
TZOFFSETTO:-0600
DTSTART:20071104T020000
RRULE:FREQ=YEARLY;BYMONTH=11;BYDAY=1SU
TZNAME:CST
END:STANDARD
END:VTIMEZONE
BEGIN:VEVENT
UID:1b2b85af-0fbd-43b2-a7e2-b5836b8045db_11086@calendar.missouristate.edu
CREATED:20240108T185707Z
LAST-MODIFIED:20240108T185707Z
LOCATION:Plaster Free Enterprise Center\, Robert W.
SUMMARY:Essentials of Effective Supervision (12-week program)
DESCRIPTION:The 12-week Essentials of Effective Supervision course provide
 s a strong knowledge base for first-line supervisors\, managers and team 
 leaders. This series is designed to provide new supervisors\, and those a
 spiring to become supervisors\, with a unique blend of knowledge\, skills
  and strategies in the areas needed to effectively and efficiently superv
 ise others. Participants will immediately put their new skills into pract
 ice. The topics covered each week are core issues proven to be the keys f
 or supervisory success. Supervisors at all levels need to handle these ar
 eas with confidence and authority to effectively deal with and manage the
  employees they supervise.
X-ALT-DESC;FMTTYPE=text/html:&lt;html&gt;&lt;head&gt;&lt;title&gt;&lt;/title&gt;&lt;/head&gt;&lt;body&gt;&lt;p&gt;Th
 e 12-week Essentials of Effective Supervision course provides a strong kn
 owledge base for first-line supervisors\, managers and team leaders. This
  series is designed to provide new supervisors\, and those aspiring to be
 come supervisors\, with a unique blend of knowledge\, skills and strategi
 es in the areas needed to effectively and efficiently supervise others. P
 articipants will immediately put their new skills into practice. The topi
 cs covered each week are core issues proven to be the keys for supervisor
 y success. Supervisors at all levels need to handle these areas with conf
 idence and authority to effectively deal with and manage the employees th
 ey supervise.&lt;/p&gt;&lt;/body&gt;&lt;/html&gt;
DTSTART;TZID=America/Chicago:20240213T180000
DTEND;TZID=America/Chicago:20240213T210000
RRULE:FREQ=WEEKLY;BYDAY=MO;UNTIL=20240508
EXDATE;TZID=America/Chicago:20240312T180000
SEQUENCE:0
URL:https://missouri.ecenterdirect.com/events/24912
CATEGORIES:Public
END:VEVENT
END:VCALENDAR