BEGIN:VCALENDAR
VERSION:2.0
METHOD:PUBLISH
PRODID:-//Missouri State University/Calendar of Events//EN
CALSCALE:GREGORIAN
X-WR-TIMEZONE:America/Chicago
BEGIN:VTIMEZONE
TZID:America/Chicago
BEGIN:DAYLIGHT
TZOFFSETFROM:-0600
TZOFFSETTO:-0500
DTSTART:20070311T020000
RRULE:FREQ=YEARLY;BYMONTH=3;BYDAY=2SU
TZNAME:CDT
END:DAYLIGHT
BEGIN:STANDARD
TZOFFSETFROM:-0500
TZOFFSETTO:-0600
DTSTART:20071104T020000
RRULE:FREQ=YEARLY;BYMONTH=11;BYDAY=1SU
TZNAME:CST
END:STANDARD
END:VTIMEZONE
BEGIN:VEVENT
UID:c0b7a102-c5cc-4712-bee6-02461c0a3098.233045@calendar.missouristate.edu
CREATED:20231115T224106Z
LAST-MODIFIED:20231115T224106Z
LOCATION:O’Reilly Clinical Health Sciences Center 100
SUMMARY:Spring 2024 MSU PA Open House Information Session
DESCRIPTION:The Physician Assistant Studies (PAS) Department will host fou
 r Open House information sessions this spring semester. Prospective stude
 nts will meet PAS faculty and staff\, participate in Q&amp;A session with cur
 rent PA students and take a brief tour of the O'Reilly Clinical Health Sc
 iences Center.\n\n\nPlease RSVP.
X-ALT-DESC;FMTTYPE=text/html:&lt;html&gt;&lt;head&gt;&lt;title&gt;&lt;/title&gt;&lt;/head&gt;&lt;body&gt;&lt;p&gt;&lt;s
 pan&gt;The Physician Assistant Studies (PAS) Department will host four&amp;nbsp\
 ;Open House information sessions&amp;nbsp\;this spring semester. Prospective 
 students will meet PAS faculty and staff\, participate in Q&amp;amp\;A sessio
 n with current PA students and take a brief tour of the O'Reilly Clinical
  Health Sciences Center.&lt;/span&gt;&lt;/p&gt;\n&lt;p&gt;&lt;span&gt;&lt;a href=" https://www.misso
 uristate.edu/PAS/rsvp-for-open-house.htm"&gt;Please RSVP&lt;/a&gt;.&lt;/span&gt;&lt;/p&gt;&lt;/bo
 dy&gt;&lt;/html&gt;
DTSTART;TZID=America/Chicago:20240126T130000
DTEND;TZID=America/Chicago:20240126T160000
SEQUENCE:0
URL:https://www.missouristate.edu/PAS/OpenHouse.htm
CATEGORIES:Public,Current Students,Future Students
END:VEVENT
END:VCALENDAR