BEGIN:VCALENDAR
VERSION:2.0
METHOD:PUBLISH
PRODID:-//Missouri State University/Calendar of Events//EN
CALSCALE:GREGORIAN
X-WR-TIMEZONE:America/Chicago
BEGIN:VTIMEZONE
TZID:America/Chicago
BEGIN:DAYLIGHT
TZOFFSETFROM:-0600
TZOFFSETTO:-0500
DTSTART:20070311T020000
RRULE:FREQ=YEARLY;BYMONTH=3;BYDAY=2SU
TZNAME:CDT
END:DAYLIGHT
BEGIN:STANDARD
TZOFFSETFROM:-0500
TZOFFSETTO:-0600
DTSTART:20071104T020000
RRULE:FREQ=YEARLY;BYMONTH=11;BYDAY=1SU
TZNAME:CST
END:STANDARD
END:VTIMEZONE
BEGIN:VEVENT
UID:00000000-0000-0000-0000-000000000000.233990@calendar.missouristate.edu
CREATED:20231115T224524Z
LAST-MODIFIED:20231115T224524Z
LOCATION:To Be Determined
SUMMARY:Lunch with an MSU Genius: July 31 - Dr. Judith Martínez-García
DESCRIPTION:The Missouri State University Foundation hosts Lunch With A Ge
 nius to showcase the many types of genius at Missouri State University. O
 n Jan. 22\, attendees will hear from Judith Martínez\, Ph.D. associate pr
 ofessor of literature\, Language\, Cultures\, and Religions.
X-ALT-DESC;FMTTYPE=text/html:&lt;html&gt;&lt;head&gt;&lt;title&gt;&lt;/title&gt;&lt;/head&gt;&lt;body&gt;&lt;p&gt;Th
 e Missouri State University Foundation hosts Lunch With A Genius to showc
 ase the many types of genius at Missouri State University. On Jan. 22\, a
 ttendees will hear from Judith Mart&amp;iacute\;nez\, Ph.D. associate profess
 or of literature\, Language\, Cultures\, and Religions.&lt;/p&gt;&lt;/body&gt;&lt;/html&gt;
DTSTART;TZID=America/Chicago:20240731T113000
DTEND;TZID=America/Chicago:20240731T130000
SEQUENCE:0
URL:https://missouristate.imodules.com?sid=1691&amp;gid=2&amp;pgid=3422&amp;cid=5930&amp;e
 cid=5930&amp;ciid=23425&amp;crid=0
CATEGORIES:Public,Alumni,Parents and Family,Visitors
END:VEVENT
END:VCALENDAR