BEGIN:VCALENDAR
VERSION:2.0
METHOD:PUBLISH
PRODID:-//Missouri State University/Calendar of Events//EN
CALSCALE:GREGORIAN
X-WR-TIMEZONE:America/Chicago
BEGIN:VTIMEZONE
TZID:America/Chicago
BEGIN:DAYLIGHT
TZOFFSETFROM:-0600
TZOFFSETTO:-0500
DTSTART:20070311T020000
RRULE:FREQ=YEARLY;BYMONTH=3;BYDAY=2SU
TZNAME:CDT
END:DAYLIGHT
BEGIN:STANDARD
TZOFFSETFROM:-0500
TZOFFSETTO:-0600
DTSTART:20071104T020000
RRULE:FREQ=YEARLY;BYMONTH=11;BYDAY=1SU
TZNAME:CST
END:STANDARD
END:VTIMEZONE
BEGIN:VEVENT
UID:e4ce42c0-7122-415d-8aa6-d106810bb228.233054@calendar.missouristate.edu
CREATED:20231117T061501Z
LAST-MODIFIED:20231117T061501Z
LOCATION:Stanford\, CA
SUMMARY:Missouri State University Men's Soccer at Stanford - NCAA Tourname
 nt Second Round
DESCRIPTION:Missouri State University Men's Soccer visits Stanford - NCAA 
 Tournament Second Round
X-ALT-DESC;FMTTYPE=text/html:&lt;html&gt;&lt;head&gt;&lt;title&gt;&lt;/title&gt;&lt;/head&gt;&lt;body&gt;Misso
 uri State University Men's Soccer visits Stanford - NCAA Tournament Secon
 d Round&lt;/body&gt;&lt;/html&gt;
DTSTART;TZID=America/Chicago:20231119T190000
DTEND;TZID=America/Chicago:20231119T210000
SEQUENCE:0
URL:http://missouristatebears.com/index.aspx?path=msoc
CATEGORIES:Current Students,Future Students,Parents and Family,Alumni,
 Faculty,Staff,Community,Visitors,Athletics
END:VEVENT
END:VCALENDAR