BEGIN:VCALENDAR
VERSION:2.0
METHOD:PUBLISH
PRODID:-//Missouri State University/Calendar of Events//EN
CALSCALE:GREGORIAN
X-WR-TIMEZONE:America/Chicago
BEGIN:VTIMEZONE
TZID:America/Chicago
BEGIN:DAYLIGHT
TZOFFSETFROM:-0600
TZOFFSETTO:-0500
DTSTART:20070311T020000
RRULE:FREQ=YEARLY;BYMONTH=3;BYDAY=2SU
TZNAME:CDT
END:DAYLIGHT
BEGIN:STANDARD
TZOFFSETFROM:-0500
TZOFFSETTO:-0600
DTSTART:20071104T020000
RRULE:FREQ=YEARLY;BYMONTH=11;BYDAY=1SU
TZNAME:CST
END:STANDARD
END:VTIMEZONE
BEGIN:VEVENT
UID:fafb9a34-8732-4a53-ab7b-3f11d02a76a0_11088@calendar.missouristate.edu
CREATED:20231121T212508Z
LAST-MODIFIED:20231121T212508Z
LOCATION:Brick City 4
SUMMARY:BFA in Art Senior Exhibition at the Brick City Gallery 
DESCRIPTION:Every semester\, the Brick City Gallery is pleased to host an 
 exhibition of work by graduating students from the Department of Art and 
 Design. The fall exhibition showcases the talent and skill of students wh
 o have spent years developing an artistic practice that will carry them i
 nto their professional careers.\n\n\nThe BFA in Art Senior Exhibition wil
 l be open Nov. 27-Dec. 8. We will celebrate our graduating students durin
 g First Friday Art Walk on Dec. 1\, 6-9 p.m.
X-ALT-DESC;FMTTYPE=text/html:&lt;html&gt;&lt;head&gt;&lt;title&gt;&lt;/title&gt;&lt;/head&gt;&lt;body&gt;&lt;p&gt;Ev
 ery semester\, the Brick City Gallery is pleased to host an exhibition of
  work by graduating students from the Department of Art and Design. The f
 all exhibition showcases the talent and skill of students who have spent 
 years developing an artistic practice that will carry them into their pro
 fessional careers.&lt;/p&gt;\n&lt;p&gt;The BFA in Art Senior Exhibition will be open 
 Nov. 27-Dec. 8. We will celebrate our graduating students during First Fr
 iday Art Walk on Dec. 1\, 6-9 p.m.&lt;/p&gt;&lt;/body&gt;&lt;/html&gt;
DTSTART;TZID=America/Chicago:20231127T110000
DTEND;TZID=America/Chicago:20231127T180000
RRULE:FREQ=WEEKLY;BYDAY=MO,TU,WE,TH,FR;UNTIL=20231209
SEQUENCE:0
URL:https://brickcitygallery.missouristate.edu/
CATEGORIES:Public,Alumni,Current Students,Faculty,Future Students,Staff
END:VEVENT
BEGIN:VEVENT
UID:fafb9a34-8732-4a53-ab7b-3f11d02a76a0.233084@calendar.missouristate.edu
CREATED:20231121T212508Z
LAST-MODIFIED:20231121T212508Z
LOCATION:Brick City 4
SUMMARY:BFA in Art Senior Exhibition at the Brick City Gallery 
DESCRIPTION:Every semester\, the Brick City Gallery is pleased to host an 
 exhibition of work by graduating students from the Department of Art and 
 Design. The fall exhibition showcases the talent and skill of students wh
 o have spent years developing an artistic practice that will carry them i
 nto their professional careers.\n\n\nThe BFA in Art Senior Exhibition wil
 l be open Nov. 27-Dec. 8. We will celebrate our graduating students durin
 g First Friday Art Walk on Dec. 1\, 6-9 p.m.
X-ALT-DESC;FMTTYPE=text/html:&lt;html&gt;&lt;head&gt;&lt;title&gt;&lt;/title&gt;&lt;/head&gt;&lt;body&gt;&lt;p&gt;Ev
 ery semester\, the Brick City Gallery is pleased to host an exhibition of
  work by graduating students from the Department of Art and Design. The f
 all exhibition showcases the talent and skill of students who have spent 
 years developing an artistic practice that will carry them into their pro
 fessional careers.&lt;/p&gt;\n&lt;p&gt;The BFA in Art Senior Exhibition will be open 
 Nov. 27-Dec. 8. We will celebrate our graduating students during First Fr
 iday Art Walk on Dec. 1\, 6-9 p.m.&lt;/p&gt;&lt;/body&gt;&lt;/html&gt;
DTSTART;TZID=America/Chicago:20231201T180000
DTEND;TZID=America/Chicago:20231201T210000
SEQUENCE:0
URL:https://brickcitygallery.missouristate.edu/
CATEGORIES:Public,Alumni,Current Students,Faculty,Future Students,Staff
END:VEVENT
END:VCALENDAR