BEGIN:VCALENDAR
VERSION:2.0
METHOD:PUBLISH
PRODID:-//Missouri State University/Calendar of Events//EN
CALSCALE:GREGORIAN
X-WR-TIMEZONE:America/Chicago
BEGIN:VTIMEZONE
TZID:America/Chicago
BEGIN:DAYLIGHT
TZOFFSETFROM:-0600
TZOFFSETTO:-0500
DTSTART:20070311T020000
RRULE:FREQ=YEARLY;BYMONTH=3;BYDAY=2SU
TZNAME:CDT
END:DAYLIGHT
BEGIN:STANDARD
TZOFFSETFROM:-0500
TZOFFSETTO:-0600
DTSTART:20071104T020000
RRULE:FREQ=YEARLY;BYMONTH=11;BYDAY=1SU
TZNAME:CST
END:STANDARD
END:VTIMEZONE
BEGIN:VEVENT
UID:b9235c34-df39-46bb-af95-4bf983344681.233085@calendar.missouristate.edu
CREATED:20231117T200825Z
LAST-MODIFIED:20231117T200825Z
LOCATION:Meyer Library\, Duane G. 205
SUMMARY:FLC Critical and Inclusive Methodology Working Group
DESCRIPTION:Join a vibrant community of researchers who are currently usin
 g or seeking to use critical inclusive methods in their research! This FL
 C provides a space for faculty and researchers to learn about and apply c
 ritical and inclusive methodologies. 
X-ALT-DESC;FMTTYPE=text/html:&lt;html&gt;&lt;head&gt;&lt;title&gt;&lt;/title&gt;&lt;/head&gt;&lt;body&gt;&lt;p&gt;&lt;s
 pan&gt;Join a vibrant community of researchers who are currently using or se
 eking to use critical inclusive methods in their research!&amp;nbsp\;&lt;/span&gt;&lt;
 span&gt;This FLC provides a space for faculty and researchers to learn about
  and apply critical and inclusive methodologies.&amp;nbsp\;&lt;/span&gt;&lt;/p&gt;&lt;/body&gt;
 &lt;/html&gt;
DTSTART;TZID=America/Chicago:20240126T120000
DTEND;TZID=America/Chicago:20240126T140000
SEQUENCE:0
URL:https://www.missouristate.edu/FCTL/flc_join.htm
CATEGORIES:Public,Faculty,Staff
END:VEVENT
END:VCALENDAR