BEGIN:VCALENDAR
VERSION:2.0
METHOD:PUBLISH
PRODID:-//Missouri State University/Calendar of Events//EN
CALSCALE:GREGORIAN
X-WR-TIMEZONE:America/Chicago
BEGIN:VTIMEZONE
TZID:America/Chicago
BEGIN:DAYLIGHT
TZOFFSETFROM:-0600
TZOFFSETTO:-0500
DTSTART:20070311T020000
RRULE:FREQ=YEARLY;BYMONTH=3;BYDAY=2SU
TZNAME:CDT
END:DAYLIGHT
BEGIN:STANDARD
TZOFFSETFROM:-0500
TZOFFSETTO:-0600
DTSTART:20071104T020000
RRULE:FREQ=YEARLY;BYMONTH=11;BYDAY=1SU
TZNAME:CST
END:STANDARD
END:VTIMEZONE
BEGIN:VEVENT
UID:3cc556c1-5cbc-4e46-90a8-ce4c6384b1dd.233104@calendar.missouristate.edu
CREATED:20231117T220532Z
LAST-MODIFIED:20231117T220532Z
LOCATION:Meyer Library\, Duane G. 120
SUMMARY:Faculty Writing Retreat
DESCRIPTION:The Faculty Writing Retreat  is a year long faculty community 
 devoted to promoting collegiality to support faculty writing productivity
 .Regularly scheduled writing blocks increase productivity and publishing 
 rates. 
X-ALT-DESC;FMTTYPE=text/html:&lt;html&gt;&lt;head&gt;&lt;title&gt;&lt;/title&gt;&lt;/head&gt;&lt;body&gt;&lt;p&gt;&lt;s
 pan&gt;The Faculty Writing Retreat&amp;nbsp\; is a year long faculty community d
 evoted to promoting collegiality to support faculty writing productivity.
 &lt;/span&gt;&lt;br&gt;&lt;br&gt;&lt;span&gt;Regularly scheduled writing blocks increase producti
 vity and publishing rates.&amp;nbsp\;&lt;/span&gt;&lt;/p&gt;&lt;/body&gt;&lt;/html&gt;
DTSTART;TZID=America/Chicago:20240208T093000
DTEND;TZID=America/Chicago:20240208T163000
SEQUENCE:0
URL:https://www.missouristate.edu/FCTL/flc_join.htm
CATEGORIES:Faculty,Staff
END:VEVENT
END:VCALENDAR