BEGIN:VCALENDAR
VERSION:2.0
METHOD:PUBLISH
PRODID:-//Missouri State University/Calendar of Events//EN
CALSCALE:GREGORIAN
X-WR-TIMEZONE:America/Chicago
BEGIN:VTIMEZONE
TZID:America/Chicago
BEGIN:DAYLIGHT
TZOFFSETFROM:-0600
TZOFFSETTO:-0500
DTSTART:20070311T020000
RRULE:FREQ=YEARLY;BYMONTH=3;BYDAY=2SU
TZNAME:CDT
END:DAYLIGHT
BEGIN:STANDARD
TZOFFSETFROM:-0500
TZOFFSETTO:-0600
DTSTART:20071104T020000
RRULE:FREQ=YEARLY;BYMONTH=11;BYDAY=1SU
TZNAME:CST
END:STANDARD
END:VTIMEZONE
BEGIN:VEVENT
UID:5b24d58a-c639-4b12-a779-f6f4d41eb982.233196@calendar.missouristate.edu
CREATED:20231117T223241Z
LAST-MODIFIED:20231117T223241Z
LOCATION:Meyer Library\, Duane G. 120
SUMMARY: Spring 2024 FLC Wednesday Writing Circle 
DESCRIPTION:This faculty learning community exists to increase scholarly p
 roductivity\, develop a scholarly community\,  facilitate the development
  of a culture of learning\, and promote faculty leadership\, collaboratio
 n\, and collegiality across disciplines among faculty at MSU.This is a ye
 ar long community meeting Fall 2023 and Spring 2024.
X-ALT-DESC;FMTTYPE=text/html:&lt;html&gt;&lt;head&gt;&lt;title&gt;&lt;/title&gt;&lt;/head&gt;&lt;body&gt;&lt;p&gt;&lt;s
 pan&gt;This faculty learning community exists to increase scholarly producti
 vity\, develop a scholarly community\,&amp;nbsp\; facilitate the development 
 of a culture of learning\, and promote faculty leadership\, collaboration
 \, and collegiality across disciplines among faculty at MSU.&lt;/span&gt;&lt;br&gt;&lt;b
 r&gt;&lt;strong&gt;This is a year long community meeting Fall 2023 and Spring 2024
 .&lt;/strong&gt;&lt;/p&gt;&lt;/body&gt;&lt;/html&gt;
DTSTART;TZID=America/Chicago:20240124T130000
DTEND;TZID=America/Chicago:20240124T150000
SEQUENCE:0
URL:https://www.missouristate.edu/FCTL/flc_join.htm
CATEGORIES:Faculty,Staff
END:VEVENT
BEGIN:VEVENT
UID:5b24d58a-c639-4b12-a779-f6f4d41eb982_11092@calendar.missouristate.edu
CREATED:20231117T223241Z
LAST-MODIFIED:20231117T223241Z
LOCATION:Meyer Library\, Duane G. 107
SUMMARY: Spring 2024 FLC Wednesday Writing Circle 
DESCRIPTION:This faculty learning community exists to increase scholarly p
 roductivity\, develop a scholarly community\,  facilitate the development
  of a culture of learning\, and promote faculty leadership\, collaboratio
 n\, and collegiality across disciplines among faculty at MSU.This is a ye
 ar long community meeting Fall 2023 and Spring 2024.
X-ALT-DESC;FMTTYPE=text/html:&lt;html&gt;&lt;head&gt;&lt;title&gt;&lt;/title&gt;&lt;/head&gt;&lt;body&gt;&lt;p&gt;&lt;s
 pan&gt;This faculty learning community exists to increase scholarly producti
 vity\, develop a scholarly community\,&amp;nbsp\; facilitate the development 
 of a culture of learning\, and promote faculty leadership\, collaboration
 \, and collegiality across disciplines among faculty at MSU.&lt;/span&gt;&lt;br&gt;&lt;b
 r&gt;&lt;strong&gt;This is a year long community meeting Fall 2023 and Spring 2024
 .&lt;/strong&gt;&lt;/p&gt;&lt;/body&gt;&lt;/html&gt;
DTSTART;TZID=America/Chicago:20240214T130000
DTEND;TZID=America/Chicago:20240214T150000
RRULE:FREQ=WEEKLY;BYDAY=TU;UNTIL=20240307
SEQUENCE:0
URL:https://www.missouristate.edu/FCTL/flc_join.htm
CATEGORIES:Faculty,Staff
END:VEVENT
BEGIN:VEVENT
UID:5b24d58a-c639-4b12-a779-f6f4d41eb982_11093@calendar.missouristate.edu
CREATED:20231117T223241Z
LAST-MODIFIED:20231117T223241Z
LOCATION:Meyer Library\, Duane G. 107
SUMMARY: Spring 2024 FLC Wednesday Writing Circle 
DESCRIPTION:This faculty learning community exists to increase scholarly p
 roductivity\, develop a scholarly community\,  facilitate the development
  of a culture of learning\, and promote faculty leadership\, collaboratio
 n\, and collegiality across disciplines among faculty at MSU.This is a ye
 ar long community meeting Fall 2023 and Spring 2024.
X-ALT-DESC;FMTTYPE=text/html:&lt;html&gt;&lt;head&gt;&lt;title&gt;&lt;/title&gt;&lt;/head&gt;&lt;body&gt;&lt;p&gt;&lt;s
 pan&gt;This faculty learning community exists to increase scholarly producti
 vity\, develop a scholarly community\,&amp;nbsp\; facilitate the development 
 of a culture of learning\, and promote faculty leadership\, collaboration
 \, and collegiality across disciplines among faculty at MSU.&lt;/span&gt;&lt;br&gt;&lt;b
 r&gt;&lt;strong&gt;This is a year long community meeting Fall 2023 and Spring 2024
 .&lt;/strong&gt;&lt;/p&gt;&lt;/body&gt;&lt;/html&gt;
DTSTART;TZID=America/Chicago:20240320T130000
DTEND;TZID=America/Chicago:20240320T150000
RRULE:FREQ=WEEKLY;BYDAY=TU;UNTIL=20240502
SEQUENCE:0
URL:https://www.missouristate.edu/FCTL/flc_join.htm
CATEGORIES:Faculty,Staff
END:VEVENT
END:VCALENDAR