BEGIN:VCALENDAR
VERSION:2.0
METHOD:PUBLISH
PRODID:-//Missouri State University/Calendar of Events//EN
CALSCALE:GREGORIAN
X-WR-TIMEZONE:America/Chicago
BEGIN:VTIMEZONE
TZID:America/Chicago
BEGIN:DAYLIGHT
TZOFFSETFROM:-0600
TZOFFSETTO:-0500
DTSTART:20070311T020000
RRULE:FREQ=YEARLY;BYMONTH=3;BYDAY=2SU
TZNAME:CDT
END:DAYLIGHT
BEGIN:STANDARD
TZOFFSETFROM:-0500
TZOFFSETTO:-0600
DTSTART:20071104T020000
RRULE:FREQ=YEARLY;BYMONTH=11;BYDAY=1SU
TZNAME:CST
END:STANDARD
END:VTIMEZONE
BEGIN:VEVENT
UID:84f5ed85-a58c-446c-9f6e-9ad26898dba2_11094@calendar.missouristate.edu
CREATED:20231117T224320Z
LAST-MODIFIED:20231117T224320Z
LOCATION:Meyer Library\, Duane G. 302
SUMMARY:FLC Reigniting the Flame:  Unraveling Faculty Burnout
DESCRIPTION:This faculty learning community brings together professors acr
 oss discplines to collaboratively explore strategies for recognizing\, co
 ping with\, and preventing faculty burnout.  We will read "Unraveling Fac
 ulty Burnout\," use shared readings\, have peer discussions\, and develop
  indivisualized self-care plans. This FLC provides resources and a commun
 ity for professors to conquer burnout and thrive.
X-ALT-DESC;FMTTYPE=text/html:&lt;html&gt;&lt;head&gt;&lt;title&gt;&lt;/title&gt;&lt;/head&gt;&lt;body&gt;&lt;p&gt;&lt;s
 pan&gt;This faculty learning community brings together professors across dis
 cplines to collaboratively explore strategies for recognizing\, coping wi
 th\, and preventing faculty burnout.&amp;nbsp\; We will read "Unraveling Facu
 lty Burnout\," use shared readings\, have peer discussions\, and develop 
 indivisualized self-care plans.&amp;nbsp\;&lt;/span&gt;&lt;br&gt;&lt;br&gt;&lt;span&gt;This FLC provi
 des resources and a community for professors to conquer burnout and thriv
 e.&lt;/span&gt;&lt;/p&gt;&lt;/body&gt;&lt;/html&gt;
DTSTART;TZID=America/Chicago:20240201T110000
DTEND;TZID=America/Chicago:20240201T130000
RRULE:FREQ=WEEKLY;BYDAY=WE;UNTIL=20240216
SEQUENCE:4
URL:https://www.missouristate.edu/FCTL/flc_join.htm
CATEGORIES:Faculty,Staff
END:VEVENT
END:VCALENDAR