BEGIN:VCALENDAR
VERSION:2.0
METHOD:PUBLISH
PRODID:-//Missouri State University/Calendar of Events//EN
CALSCALE:GREGORIAN
X-WR-TIMEZONE:America/Chicago
BEGIN:VTIMEZONE
TZID:America/Chicago
BEGIN:DAYLIGHT
TZOFFSETFROM:-0600
TZOFFSETTO:-0500
DTSTART:20070311T020000
RRULE:FREQ=YEARLY;BYMONTH=3;BYDAY=2SU
TZNAME:CDT
END:DAYLIGHT
BEGIN:STANDARD
TZOFFSETFROM:-0500
TZOFFSETTO:-0600
DTSTART:20071104T020000
RRULE:FREQ=YEARLY;BYMONTH=11;BYDAY=1SU
TZNAME:CST
END:STANDARD
END:VTIMEZONE
BEGIN:VEVENT
UID:d1ca5d79-8b55-4dad-8ed3-b4cb51a25a0d.233215@calendar.missouristate.edu
CREATED:20231122T162952Z
LAST-MODIFIED:20231122T162952Z
LOCATION:Brick City 1 First Floor
SUMMARY:Pottery Sale Event
DESCRIPTION:The Clayworks Student Organization of the Department of Art an
 d Design at Missouri State University will host the annual fall semester 
 pottery sale! \n\n\nThe sale will take place in downtown Springfield at M
 issouri State University’s Brick City Building 1 on Nov. 30 from 9 a.m.-5
 :30 p.m. and inside the Brick City Building 3\, Cabot Gallery\, on Dec. 1
  from 6-9 p.m. during the First Friday Art Walk. \n\n\nThere will be a go
 od variety of ceramic forms available for you to purchase and\, as always
 \, we can accept either cash or cards. \n\n\nHope to see you there!
X-ALT-DESC;FMTTYPE=text/html:&lt;html&gt;&lt;head&gt;&lt;title&gt;&lt;/title&gt;&lt;/head&gt;&lt;body&gt;&lt;p&gt;&lt;s
 pan&gt;The Clayworks Student Organization of the Department of Art and Desig
 n at Missouri State University will host the annual fall semester pottery
  sale! &lt;/span&gt;&lt;/p&gt;\n&lt;p&gt;&lt;span&gt;The sale will take place in downtown Springf
 ield at Missouri State University’s Brick City Building 1 on Nov. 30 from
  9 a.m.-5:30 p.m. and inside the Brick City Building 3\, Cabot Gallery\, 
 on Dec. 1 from 6-9 p.m. during the First Friday Art Walk. &lt;/span&gt;&lt;/p&gt;\n&lt;p
 &gt;&lt;span&gt;There will be a good variety of ceramic forms available for you to
  purchase and\, as always\, we can accept either cash or cards. &lt;/span&gt;&lt;/
 p&gt;\n&lt;p&gt;&lt;span&gt;Hope to see you there!&lt;/span&gt;&lt;/p&gt;&lt;/body&gt;&lt;/html&gt;
DTSTART;TZID=America/Chicago:20231130T090000
DTEND;TZID=America/Chicago:20231130T173000
SEQUENCE:0
URL:122540.jpg
CATEGORIES:Public,Alumni,Current Students,Faculty,Future Students,Staff
END:VEVENT
END:VCALENDAR