BEGIN:VCALENDAR
VERSION:2.0
METHOD:PUBLISH
PRODID:-//Missouri State University/Calendar of Events//EN
CALSCALE:GREGORIAN
X-WR-TIMEZONE:America/Chicago
BEGIN:VTIMEZONE
TZID:America/Chicago
BEGIN:DAYLIGHT
TZOFFSETFROM:-0600
TZOFFSETTO:-0500
DTSTART:20070311T020000
RRULE:FREQ=YEARLY;BYMONTH=3;BYDAY=2SU
TZNAME:CDT
END:DAYLIGHT
BEGIN:STANDARD
TZOFFSETFROM:-0500
TZOFFSETTO:-0600
DTSTART:20071104T020000
RRULE:FREQ=YEARLY;BYMONTH=11;BYDAY=1SU
TZNAME:CST
END:STANDARD
END:VTIMEZONE
BEGIN:VEVENT
UID:41978b29-9705-48d7-9c10-6fcf2b9d137f.233260@calendar.missouristate.edu
CREATED:20231120T203813Z
LAST-MODIFIED:20231120T203813Z
LOCATION:Meyer Library\, Duane G. 107
SUMMARY:CNAS Brightspace FLC
DESCRIPTION:This group will introduce The College of Natural and Applied S
 ciences (CNAS) faculty and staff  to the many tools of Brightspace\, prov
 ide a supportive community as we migrate our courses\, and provide time t
 o move courses over to prevent last minute migrations. Meetings will incl
 ude a short presentation about Brightspace\, then time will be devoted to
  faculty working on their courses\, asking questions\, and receiving feed
 back from each other.   
X-ALT-DESC;FMTTYPE=text/html:&lt;html&gt;&lt;head&gt;&lt;title&gt;&lt;/title&gt;&lt;/head&gt;&lt;body&gt;&lt;p&gt;&lt;s
 pan&gt;This group will introduce The College of Natural and Applied Sciences
  (CNAS) faculty and staff&amp;nbsp\; to the many tools of Brightspace\, provi
 de a supportive community as we migrate our courses\, and provide time to
  move courses over to prevent last minute migrations. Meetings will inclu
 de a short presentation about Brightspace\, then time will be devoted to 
 faculty working on their courses\, asking questions\, and receiving feedb
 ack from each other.&amp;nbsp\; &amp;nbsp\;&lt;/span&gt;&lt;/p&gt;&lt;/body&gt;&lt;/html&gt;
DTSTART;TZID=America/Chicago:20240124T110000
DTEND;TZID=America/Chicago:20240124T130000
SEQUENCE:0
URL:https://www.missouristate.edu/FCTL/flc_join.htm
CATEGORIES:Faculty,Staff
END:VEVENT
END:VCALENDAR