BEGIN:VCALENDAR
VERSION:2.0
METHOD:PUBLISH
PRODID:-//Missouri State University/Calendar of Events//EN
CALSCALE:GREGORIAN
X-WR-TIMEZONE:America/Chicago
BEGIN:VTIMEZONE
TZID:America/Chicago
BEGIN:DAYLIGHT
TZOFFSETFROM:-0600
TZOFFSETTO:-0500
DTSTART:20070311T020000
RRULE:FREQ=YEARLY;BYMONTH=3;BYDAY=2SU
TZNAME:CDT
END:DAYLIGHT
BEGIN:STANDARD
TZOFFSETFROM:-0500
TZOFFSETTO:-0600
DTSTART:20071104T020000
RRULE:FREQ=YEARLY;BYMONTH=11;BYDAY=1SU
TZNAME:CST
END:STANDARD
END:VTIMEZONE
BEGIN:VEVENT
UID:53fbe009-966f-4e3f-8efe-851c83419cc1_11099@calendar.missouristate.edu
CREATED:20231120T210150Z
LAST-MODIFIED:20231120T210150Z
LOCATION:Baker Bookstore
SUMMARY:Faculty and Staff Appreciation Days
DESCRIPTION:Come to the Faculty and Staff Appreciation\, Nov. 28-29.\n\n\n
 This is an in-store event only. Enjoy:\n\n\n\n25% off BearWear and souven
 irs.\n33% off the "Boomer Bundle."\nDiscounted trade (general) books.\nSp
 ecial discounts on MacBook PRO M1/M2.\nSpend $99 or more and get a free M
 SU Bear (limited supply).\n"Flash Sale" - 50% off specifically marked Bea
 rWear.\n\nRemember to bring your faculty/staff BearPass ID as these offer
 s are exclusive for you!\n\n\nThese deals cannot be combined with any oth
 er offers. Limited supply on some items. Bookstore hours are 8 a.m.-6 p.m
 . both days.\n\n\nIf you have any questions\, please call 417-836-5403.
X-ALT-DESC;FMTTYPE=text/html:&lt;html&gt;&lt;head&gt;&lt;title&gt;&lt;/title&gt;&lt;/head&gt;&lt;body&gt;&lt;p&gt;Co
 me to the Faculty and Staff Appreciation\, Nov. 28-29.&lt;/p&gt;\n&lt;p&gt;This is an
  in-store event only. Enjoy:&lt;/p&gt;\n&lt;ul&gt;\n&lt;li&gt;25% off BearWear and souvenir
 s.&lt;/li&gt;\n&lt;li&gt;33% off the "Boomer Bundle."&lt;/li&gt;\n&lt;li&gt;Discounted trade (gen
 eral) books.&lt;/li&gt;\n&lt;li&gt;Special discounts on MacBook PRO M1/M2.&lt;/li&gt;\n&lt;li&gt;
 Spend $99 or more and get a free MSU Bear (limited supply).&lt;/li&gt;\n&lt;li&gt;"Fl
 ash Sale" - 50% off specifically marked BearWear.&lt;/li&gt;\n&lt;/ul&gt;\n&lt;p&gt;Remembe
 r to bring your faculty/staff BearPass ID as these offers are exclusive f
 or you!&lt;/p&gt;\n&lt;p&gt;These deals cannot be combined with any other offers. Lim
 ited supply on some items. Bookstore hours are 8 a.m.-6 p.m. both days.&lt;/
 p&gt;\n&lt;p&gt;If you have any questions\, please call 417-836-5403.&lt;/p&gt;&lt;/body&gt;&lt;/
 html&gt;
DTSTART;TZID=America/Chicago:20231128T080000
DTEND;TZID=America/Chicago:20231128T180000
RRULE:FREQ=WEEKLY;BYDAY=MO,TU;UNTIL=20231130
SEQUENCE:2
URL:122547.jpg
CATEGORIES:Faculty,Staff
END:VEVENT
END:VCALENDAR