BEGIN:VCALENDAR
VERSION:2.0
METHOD:PUBLISH
PRODID:-//Missouri State University/Calendar of Events//EN
CALSCALE:GREGORIAN
X-WR-TIMEZONE:America/Chicago
BEGIN:VTIMEZONE
TZID:America/Chicago
BEGIN:DAYLIGHT
TZOFFSETFROM:-0600
TZOFFSETTO:-0500
DTSTART:20070311T020000
RRULE:FREQ=YEARLY;BYMONTH=3;BYDAY=2SU
TZNAME:CDT
END:DAYLIGHT
BEGIN:STANDARD
TZOFFSETFROM:-0500
TZOFFSETTO:-0600
DTSTART:20071104T020000
RRULE:FREQ=YEARLY;BYMONTH=11;BYDAY=1SU
TZNAME:CST
END:STANDARD
END:VTIMEZONE
BEGIN:VEVENT
UID:98110bea-fd49-4783-8651-3f41bedb1f3b.233267@calendar.missouristate.edu
CREATED:20231120T205645Z
LAST-MODIFIED:20231120T205645Z
LOCATION:Ann Kampeter Health Sciences Hall 101
SUMMARY:McQueary Brightspace FLC 
DESCRIPTION:This group will introduce McQueary College faculty and staff  
 to the many tools of Brightspace\, provide a supportive community as we m
 igrate our courses\, and provide time to move courses over to prevent las
 t minute migrations. Meetings will include a short presentation about Bri
 ghtspace\, then time will be devoted to faculty working on their courses\
 , asking questions\, and receiving feedback from each other.   
X-ALT-DESC;FMTTYPE=text/html:&lt;html&gt;&lt;head&gt;&lt;title&gt;&lt;/title&gt;&lt;/head&gt;&lt;body&gt;&lt;p&gt;&lt;s
 pan&gt;This group will introduce McQueary College faculty and staff&amp;nbsp\; t
 o the many tools of Brightspace\, provide a supportive community as we mi
 grate our courses\, and provide time to move courses over to prevent last
  minute migrations. Meetings will include a short presentation about Brig
 htspace\, then time will be devoted to faculty working on their courses\,
  asking questions\, and receiving feedback from each other.&amp;nbsp\; &amp;nbsp\
 ;&lt;/span&gt;&lt;/p&gt;&lt;/body&gt;&lt;/html&gt;
DTSTART;TZID=America/Chicago:20240129T090000
DTEND;TZID=America/Chicago:20240129T110000
SEQUENCE:0
URL:https://www.missouristate.edu/FCTL/flc_join.htm
CATEGORIES:Faculty,Staff
END:VEVENT
END:VCALENDAR