BEGIN:VCALENDAR
VERSION:2.0
METHOD:PUBLISH
PRODID:-//Missouri State University/Calendar of Events//EN
CALSCALE:GREGORIAN
X-WR-TIMEZONE:America/Chicago
BEGIN:VTIMEZONE
TZID:America/Chicago
BEGIN:DAYLIGHT
TZOFFSETFROM:-0600
TZOFFSETTO:-0500
DTSTART:20070311T020000
RRULE:FREQ=YEARLY;BYMONTH=3;BYDAY=2SU
TZNAME:CDT
END:DAYLIGHT
BEGIN:STANDARD
TZOFFSETFROM:-0500
TZOFFSETTO:-0600
DTSTART:20071104T020000
RRULE:FREQ=YEARLY;BYMONTH=11;BYDAY=1SU
TZNAME:CST
END:STANDARD
END:VTIMEZONE
BEGIN:VEVENT
UID:55551a36-a95d-4253-94ff-5a7137d4da0c.233272@calendar.missouristate.edu
CREATED:20231120T210743Z
LAST-MODIFIED:20231120T210743Z
LOCATION:127
SUMMARY:COE - PCOB Brightspace FLC 
DESCRIPTION:This group will introduce The College of Education (COE)  facu
 lty and staff located in the  Park Central Office Building (PCOB)  to the
  many tools of Brightspace\, provide a supportive community as we migrate
  our courses\, and provide time to move courses over to prevent last minu
 te migrations. Meetings will include a short presentation about Brightspa
 ce\, then time will be devoted to faculty working on their courses\, aski
 ng questions\, and receiving feedback from each other.   
X-ALT-DESC;FMTTYPE=text/html:&lt;html&gt;&lt;head&gt;&lt;title&gt;&lt;/title&gt;&lt;/head&gt;&lt;body&gt;&lt;p&gt;&lt;s
 pan&gt;This group will introduce The College of Education (COE)&amp;nbsp\; facul
 ty and staff located in the&amp;nbsp\; Park Central Office Building (PCOB)&amp;nb
 sp\; to the many tools of Brightspace\, provide a supportive community as
  we migrate our courses\, and provide time to move courses over to preven
 t last minute migrations. Meetings will include a short presentation abou
 t Brightspace\, then time will be devoted to faculty working on their cou
 rses\, asking questions\, and receiving feedback from each other.&amp;nbsp\; 
 &amp;nbsp\;&lt;/span&gt;&lt;/p&gt;&lt;/body&gt;&lt;/html&gt;
DTSTART;TZID=America/Chicago:20240124T120000
DTEND;TZID=America/Chicago:20240124T140000
SEQUENCE:0
URL:https://www.missouristate.edu/FCTL/flc_join.htm
CATEGORIES:Faculty,Staff
END:VEVENT
END:VCALENDAR