BEGIN:VCALENDAR
VERSION:2.0
METHOD:PUBLISH
PRODID:-//Missouri State University/Calendar of Events//EN
CALSCALE:GREGORIAN
X-WR-TIMEZONE:America/Chicago
BEGIN:VTIMEZONE
TZID:America/Chicago
BEGIN:DAYLIGHT
TZOFFSETFROM:-0600
TZOFFSETTO:-0500
DTSTART:20070311T020000
RRULE:FREQ=YEARLY;BYMONTH=3;BYDAY=2SU
TZNAME:CDT
END:DAYLIGHT
BEGIN:STANDARD
TZOFFSETFROM:-0500
TZOFFSETTO:-0600
DTSTART:20071104T020000
RRULE:FREQ=YEARLY;BYMONTH=11;BYDAY=1SU
TZNAME:CST
END:STANDARD
END:VTIMEZONE
BEGIN:VEVENT
UID:008d5e21-43bc-42bd-a12f-56ecafdc8fed.233278@calendar.missouristate.edu
CREATED:20231120T211525Z
LAST-MODIFIED:20231120T211525Z
LOCATION:Hill Hall 301
SUMMARY:COE Brightspace FLC 
DESCRIPTION:This group will introduce the College of Education (COE)  facu
 lty and staff  to the many tools of Brightspace\, provide a supportive co
 mmunity as we migrate our courses and provide time to move courses over t
 o prevent last minute migrations. Meetings will include a short presentat
 ion about Brightspace\, then time will be devoted to faculty working on t
 heir courses\, asking questions and receiving feedback from each other.   
X-ALT-DESC;FMTTYPE=text/html:&lt;html&gt;&lt;head&gt;&lt;title&gt;&lt;/title&gt;&lt;/head&gt;&lt;body&gt;&lt;p&gt;&lt;s
 pan&gt;This group will introduce the College of Education (COE)&amp;nbsp\; facul
 ty and staff&amp;nbsp\; to the many tools of Brightspace\, provide a supporti
 ve community as we migrate our courses and provide time to move courses o
 ver to prevent last minute migrations. Meetings will include a short pres
 entation about Brightspace\, then time will be devoted to faculty working
  on their courses\, asking questions and receiving feedback from each oth
 er.&amp;nbsp\; &amp;nbsp\;&lt;/span&gt;&lt;/p&gt;&lt;/body&gt;&lt;/html&gt;
DTSTART;TZID=America/Chicago:20240216T130000
DTEND;TZID=America/Chicago:20240216T153000
SEQUENCE:0
URL:https://www.missouristate.edu/FCTL/flc_join.htm
CATEGORIES:Faculty,Staff
END:VEVENT
END:VCALENDAR