BEGIN:VCALENDAR
VERSION:2.0
METHOD:PUBLISH
PRODID:-//Missouri State University/Calendar of Events//EN
CALSCALE:GREGORIAN
X-WR-TIMEZONE:America/Chicago
BEGIN:VTIMEZONE
TZID:America/Chicago
BEGIN:DAYLIGHT
TZOFFSETFROM:-0600
TZOFFSETTO:-0500
DTSTART:20070311T020000
RRULE:FREQ=YEARLY;BYMONTH=3;BYDAY=2SU
TZNAME:CDT
END:DAYLIGHT
BEGIN:STANDARD
TZOFFSETFROM:-0500
TZOFFSETTO:-0600
DTSTART:20071104T020000
RRULE:FREQ=YEARLY;BYMONTH=11;BYDAY=1SU
TZNAME:CST
END:STANDARD
END:VTIMEZONE
BEGIN:VEVENT
UID:10c432ff-c484-441e-8e3f-2c0489c6db29.233294@calendar.missouristate.edu
CREATED:20231127T155535Z
LAST-MODIFIED:20231127T155535Z
LOCATION:Hammons Student Center\, John Q.
SUMMARY:TC Swim &amp; Dive Giveaway
DESCRIPTION:Free water bottles and pennant banners for students!\n\n\nThe 
 giveaway starts at 10:30am\, and the competition starts at 11am. 
X-ALT-DESC;FMTTYPE=text/html:&lt;html&gt;&lt;head&gt;&lt;title&gt;&lt;/title&gt;&lt;/head&gt;&lt;body&gt;&lt;p&gt;Fr
 ee water bottles and pennant banners for students!&lt;/p&gt;\n&lt;p&gt;The giveaway s
 tarts at 10:30am\, and the competition starts at 11am.&amp;nbsp\;&lt;/p&gt;&lt;/body&gt;&lt;
 /html&gt;
DTSTART;TZID=America/Chicago:20231202T103000
DTEND;TZID=America/Chicago:20231202T120000
SEQUENCE:0
URL:122560.jpg
CATEGORIES:Current Students
END:VEVENT
END:VCALENDAR