BEGIN:VCALENDAR
VERSION:2.0
METHOD:PUBLISH
PRODID:-//Missouri State University/Calendar of Events//EN
CALSCALE:GREGORIAN
X-WR-TIMEZONE:America/Chicago
BEGIN:VTIMEZONE
TZID:America/Chicago
BEGIN:DAYLIGHT
TZOFFSETFROM:-0600
TZOFFSETTO:-0500
DTSTART:20070311T020000
RRULE:FREQ=YEARLY;BYMONTH=3;BYDAY=2SU
TZNAME:CDT
END:DAYLIGHT
BEGIN:STANDARD
TZOFFSETFROM:-0500
TZOFFSETTO:-0600
DTSTART:20071104T020000
RRULE:FREQ=YEARLY;BYMONTH=11;BYDAY=1SU
TZNAME:CST
END:STANDARD
END:VTIMEZONE
BEGIN:VEVENT
UID:273046ca-fd73-482f-8682-8a33c3c8efc8.233310@calendar.missouristate.edu
CREATED:20231207T011708Z
LAST-MODIFIED:20231207T011708Z
LOCATION:
SUMMARY:BFA in Design: The Professional Design Practicum Exhibition
DESCRIPTION:Every semester\, the Carolla Arts Exhibition Center is pleased
  to host an exhibition of work by graduating students from the Department
  of Art and Design. The fall exhibition showcases the talent and skill of
  students who have spent years developing a design practice that will car
 ry them into their professional careers.\n\n\nThe fall 2023 Professional 
 Design Practicum will be open Dec. 1-15. We will celebrate graduating stu
 dents with work in the exhibit during First Friday Art Walk\, Dec. 1 from
  6-9 p.m.
X-ALT-DESC;FMTTYPE=text/html:&lt;html&gt;&lt;head&gt;&lt;title&gt;&lt;/title&gt;&lt;/head&gt;&lt;body&gt;&lt;p&gt;Ev
 ery semester\, the Carolla Arts Exhibition Center is pleased to host an e
 xhibition of work by graduating students from the Department of Art and D
 esign. The fall exhibition showcases the talent and skill of students who
  have spent years developing a design practice that will carry them into 
 their professional careers.&lt;/p&gt;\n&lt;p&gt;The fall 2023 Professional Design Pra
 cticum will be open Dec. 1-15. We will celebrate graduating students with
  work in the exhibit during First Friday Art Walk\, Dec. 1 from 6-9 p.m.&lt;
 /p&gt;&lt;/body&gt;&lt;/html&gt;
DTSTART;TZID=America/Chicago:20231201T180000
DTEND;TZID=America/Chicago:20231201T210000
SEQUENCE:0
URL:https://galleries.missouristate.edu/Carolla
CATEGORIES:Public,Alumni,Current Students,Faculty,Future Students,Staff
END:VEVENT
BEGIN:VEVENT
UID:273046ca-fd73-482f-8682-8a33c3c8efc8_11101@calendar.missouristate.edu
CREATED:20231207T011708Z
LAST-MODIFIED:20231207T011708Z
LOCATION:
SUMMARY:BFA in Design: The Professional Design Practicum Exhibition
DESCRIPTION:Every semester\, the Carolla Arts Exhibition Center is pleased
  to host an exhibition of work by graduating students from the Department
  of Art and Design. The fall exhibition showcases the talent and skill of
  students who have spent years developing a design practice that will car
 ry them into their professional careers.\n\n\nThe fall 2023 Professional 
 Design Practicum will be open Dec. 1-15. We will celebrate graduating stu
 dents with work in the exhibit during First Friday Art Walk\, Dec. 1 from
  6-9 p.m.
X-ALT-DESC;FMTTYPE=text/html:&lt;html&gt;&lt;head&gt;&lt;title&gt;&lt;/title&gt;&lt;/head&gt;&lt;body&gt;&lt;p&gt;Ev
 ery semester\, the Carolla Arts Exhibition Center is pleased to host an e
 xhibition of work by graduating students from the Department of Art and D
 esign. The fall exhibition showcases the talent and skill of students who
  have spent years developing a design practice that will carry them into 
 their professional careers.&lt;/p&gt;\n&lt;p&gt;The fall 2023 Professional Design Pra
 cticum will be open Dec. 1-15. We will celebrate graduating students with
  work in the exhibit during First Friday Art Walk\, Dec. 1 from 6-9 p.m.&lt;
 /p&gt;&lt;/body&gt;&lt;/html&gt;
DTSTART;TZID=America/Chicago:20231201T110000
DTEND;TZID=America/Chicago:20231201T180000
RRULE:FREQ=WEEKLY;BYDAY=MO,TU,WE,TH,FR;UNTIL=20231215
SEQUENCE:0
URL:https://galleries.missouristate.edu/Carolla
CATEGORIES:Public,Alumni,Current Students,Faculty,Future Students,Staff
END:VEVENT
END:VCALENDAR