BEGIN:VCALENDAR
VERSION:2.0
METHOD:PUBLISH
PRODID:-//Missouri State University/Calendar of Events//EN
CALSCALE:GREGORIAN
X-WR-TIMEZONE:America/Chicago
BEGIN:VTIMEZONE
TZID:America/Chicago
BEGIN:DAYLIGHT
TZOFFSETFROM:-0600
TZOFFSETTO:-0500
DTSTART:20070311T020000
RRULE:FREQ=YEARLY;BYMONTH=3;BYDAY=2SU
TZNAME:CDT
END:DAYLIGHT
BEGIN:STANDARD
TZOFFSETFROM:-0500
TZOFFSETTO:-0600
DTSTART:20071104T020000
RRULE:FREQ=YEARLY;BYMONTH=11;BYDAY=1SU
TZNAME:CST
END:STANDARD
END:VTIMEZONE
BEGIN:VEVENT
UID:f5dff459-8b8e-4870-b9e1-ecb6c5c529ce.233311@calendar.missouristate.edu
CREATED:20231219T164825Z
LAST-MODIFIED:20231219T164825Z
LOCATION:
SUMMARY:Ancient Artifacts Abroad Exhibition Opening at Springfield Art Mus
 eum
DESCRIPTION:Come to the opening of the Ancient Artifacts Abroad exhibition
  at the Springfield Art Museum (SAM).\n\n\nAncient Artifacts Abroad was c
 o-curated by Dr. Julia Troche (History)\, Dr. Bryan Brinkman (Languages\,
  Cultures and Religions)\, dozen of student contributors and SAM staff.\n
 \n\nThe exhibition is open Dec. 9\, 2023-June 16\, 2024\, but on opening 
 day\, the curators will be available from 2-4 p.m. to answer questions an
 d guide visitors through the exhbition. All are welcome and\, as always\,
  the museum is free!
X-ALT-DESC;FMTTYPE=text/html:&lt;html&gt;&lt;head&gt;&lt;title&gt;&lt;/title&gt;&lt;/head&gt;&lt;body&gt;&lt;p&gt;Co
 me to the opening of the Ancient Artifacts Abroad exhibition at the Sprin
 gfield Art Museum (SAM).&lt;/p&gt;\n&lt;p&gt;Ancient Artifacts Abroad was co-curated 
 by Dr. Julia Troche (History)\, Dr. Bryan Brinkman (Languages\, Cultures 
 and Religions)\, dozen of student contributors and SAM staff.&lt;/p&gt;\n&lt;p&gt;The
  exhibition is open Dec. 9\, 2023-June 16\, 2024\, but on opening day\, t
 he curators will be available from 2-4 p.m. to answer questions and guide
  visitors through the exhbition. All are welcome and\, as always\, the mu
 seum is free!&lt;/p&gt;&lt;/body&gt;&lt;/html&gt;
DTSTART;TZID=America/Chicago:20231209T140000
DTEND;TZID=America/Chicago:20231209T160000
SEQUENCE:0
URL:https://www.sgfmuseum.org/274/Missouri-State-University-Collaborations
CATEGORIES:Public,Alumni,Current Students,Faculty,Future Students,Staff
END:VEVENT
END:VCALENDAR