BEGIN:VCALENDAR
VERSION:2.0
METHOD:PUBLISH
PRODID:-//Missouri State University/Calendar of Events//EN
CALSCALE:GREGORIAN
X-WR-TIMEZONE:America/Chicago
BEGIN:VTIMEZONE
TZID:America/Chicago
BEGIN:DAYLIGHT
TZOFFSETFROM:-0600
TZOFFSETTO:-0500
DTSTART:20070311T020000
RRULE:FREQ=YEARLY;BYMONTH=3;BYDAY=2SU
TZNAME:CDT
END:DAYLIGHT
BEGIN:STANDARD
TZOFFSETFROM:-0500
TZOFFSETTO:-0600
DTSTART:20071104T020000
RRULE:FREQ=YEARLY;BYMONTH=11;BYDAY=1SU
TZNAME:CST
END:STANDARD
END:VTIMEZONE
BEGIN:VEVENT
UID:16aee297-7afe-4f01-a227-b884267f677a.233316@calendar.missouristate.edu
CREATED:20231128T061503Z
LAST-MODIFIED:20231128T061503Z
LOCATION:Pittsburg\, Kan.
SUMMARY:Missouri State University Women's Track &amp; Field at Pittsburg State
  Invitational
DESCRIPTION:Missouri State University Women's Track &amp; Field visits Pittsbu
 rg State Invitational
X-ALT-DESC;FMTTYPE=text/html:&lt;html&gt;&lt;head&gt;&lt;title&gt;&lt;/title&gt;&lt;/head&gt;&lt;body&gt;Misso
 uri State University Women's Track &amp; Field visits Pittsburg State Invitat
 ional&lt;/body&gt;&lt;/html&gt;
DTSTART;TZID=America/Chicago:20240127T100000
DTEND;TZID=America/Chicago:20240127T130000
SEQUENCE:2
URL:http://missouristatebears.com/index.aspx?path=wtrack
CATEGORIES:Current Students,Future Students,Parents and Family,Alumni,
 Faculty,Staff,Community,Visitors,Athletics
END:VEVENT
END:VCALENDAR