BEGIN:VCALENDAR
VERSION:2.0
METHOD:PUBLISH
PRODID:-//Missouri State University/Calendar of Events//EN
CALSCALE:GREGORIAN
X-WR-TIMEZONE:America/Chicago
BEGIN:VTIMEZONE
TZID:America/Chicago
BEGIN:DAYLIGHT
TZOFFSETFROM:-0600
TZOFFSETTO:-0500
DTSTART:20070311T020000
RRULE:FREQ=YEARLY;BYMONTH=3;BYDAY=2SU
TZNAME:CDT
END:DAYLIGHT
BEGIN:STANDARD
TZOFFSETFROM:-0500
TZOFFSETTO:-0600
DTSTART:20071104T020000
RRULE:FREQ=YEARLY;BYMONTH=11;BYDAY=1SU
TZNAME:CST
END:STANDARD
END:VTIMEZONE
BEGIN:VEVENT
UID:3af2b863-1c90-43d9-8f85-ddcaa59dcae1.233325@calendar.missouristate.edu
CREATED:20231128T061510Z
LAST-MODIFIED:20231128T061510Z
LOCATION:Springfield\, Robert W. Plaster Stadium
SUMMARY:Missouri State University Football vs Youngstown State - Family We
 ekend | 417 Day | Bears Supporting Bears
DESCRIPTION:Missouri State University Football plays Youngstown State - Fa
 mily Weekend | 417 Day | Bears Supporting BearsTV: ESPN3
X-ALT-DESC;FMTTYPE=text/html:&lt;html&gt;&lt;head&gt;&lt;title&gt;&lt;/title&gt;&lt;/head&gt;&lt;body&gt;Misso
 uri State University Football plays Youngstown State - Family Weekend | 4
 17 Day | Bears Supporting Bears&lt;br&gt;&lt;br&gt;TV: ESPN3&lt;/body&gt;&lt;/html&gt;
DTSTART;TZID=America/Chicago:20240928T140000
DTEND;TZID=America/Chicago:20240928T170000
SEQUENCE:1
URL:http://missouristatebears.com/index.aspx?path=football
CATEGORIES:Current Students,Future Students,Parents and Family,Alumni,
 Faculty,Staff,Community,Visitors,Athletics
END:VEVENT
END:VCALENDAR