BEGIN:VCALENDAR
VERSION:2.0
METHOD:PUBLISH
PRODID:-//Missouri State University/Calendar of Events//EN
CALSCALE:GREGORIAN
X-WR-TIMEZONE:America/Chicago
BEGIN:VTIMEZONE
TZID:America/Chicago
BEGIN:DAYLIGHT
TZOFFSETFROM:-0600
TZOFFSETTO:-0500
DTSTART:20070311T020000
RRULE:FREQ=YEARLY;BYMONTH=3;BYDAY=2SU
TZNAME:CDT
END:DAYLIGHT
BEGIN:STANDARD
TZOFFSETFROM:-0500
TZOFFSETTO:-0600
DTSTART:20071104T020000
RRULE:FREQ=YEARLY;BYMONTH=11;BYDAY=1SU
TZNAME:CST
END:STANDARD
END:VTIMEZONE
BEGIN:VEVENT
UID:8e8b0c98-75d0-40d7-8e82-629be825e8d0_11102@calendar.missouristate.edu
CREATED:20231129T214543Z
LAST-MODIFIED:20231129T214543Z
LOCATION:Blair-Shannon House Grand Lounge
SUMMARY:Boomer's Five and Dime
DESCRIPTION:It is the time of year again for Boomer’s Five and Dime! This 
 event will be held in the Blair-Shannon Grand Lounge (across from the Pla
 ster Student Union).Boomer’s will be held Dec. 6-8 from 11 a.m.-3 p.m. On
  Dec. 8\, there will be a live auction at noon. We will have some excitin
 g items in the auction\, including products from local vendors\, themed b
 askets and delicious baked goods.A variety of vendors and student organiz
 ations will sell an assortment of items at the event\, including jewelry\
 , artwork\, gourmet treats\, clothing and much more. Boomer’s is the perf
 ect place to pick up a special gift for someone else or to find a treat j
 ust for you!Proceeds support the Wilda F. Looney and Gary K. Stewart Resi
 dence Life Leadership Scholarship. If you have questions or would like to
  make a donation to the event\, please feel free to contact Billy Lindsey
 \, assistant coordinator of leadership development and programming\, at 4
 17-836-5144 or by email at Bl889s@missouristate.edu. Thank you for your p
 articipation in this annual event!
X-ALT-DESC;FMTTYPE=text/html:&lt;html&gt;&lt;head&gt;&lt;title&gt;&lt;/title&gt;&lt;/head&gt;&lt;body&gt;&lt;p&gt;It
  is the time of year again for Boomer’s Five and Dime! This event will be
  held in the Blair-Shannon Grand Lounge (across from the Plaster Student 
 Union).&lt;br&gt;&lt;br&gt;Boomer’s will be held Dec. 6-8 from 11 a.m.-3 p.m. On Dec.
  8\, there will be a live auction at noon. We will have some exciting ite
 ms in the auction\, including products from local vendors\, themed basket
 s and delicious baked goods.&lt;br&gt;&lt;br&gt;A variety of vendors and student orga
 nizations will sell an assortment of items at the event\, including jewel
 ry\, artwork\, gourmet treats\, clothing and much more. Boomer’s is the p
 erfect place to pick up a special gift for someone else or to find a trea
 t just for you!&lt;br&gt;&lt;br&gt;Proceeds support the Wilda F. Looney and Gary K. S
 tewart Residence Life Leadership Scholarship. If you have questions or wo
 uld like to make a donation to the event\, please feel free to contact Bi
 lly Lindsey\, assistant coordinator of leadership development and program
 ming\, at 417-836-5144 or by email at Bl889s@missouristate.edu. Thank you
  for your participation in this annual event!&lt;span lang="en-US"&gt;&lt;br&gt;&lt;/spa
 n&gt;&lt;/p&gt;&lt;/body&gt;&lt;/html&gt;
DTSTART;TZID=America/Chicago:20231206T110000
DTEND;TZID=America/Chicago:20231206T150000
RRULE:FREQ=DAILY;UNTIL=20231209
SEQUENCE:0
URL:https://www.instagram.com/nrhh_msuboomerchapter/
CATEGORIES:Public,Alumni,Current Students,Faculty,Future Students,Staff
END:VEVENT
END:VCALENDAR