BEGIN:VCALENDAR
VERSION:2.0
METHOD:PUBLISH
PRODID:-//Missouri State University/Calendar of Events//EN
CALSCALE:GREGORIAN
X-WR-TIMEZONE:America/Chicago
BEGIN:VTIMEZONE
TZID:America/Chicago
BEGIN:DAYLIGHT
TZOFFSETFROM:-0600
TZOFFSETTO:-0500
DTSTART:20070311T020000
RRULE:FREQ=YEARLY;BYMONTH=3;BYDAY=2SU
TZNAME:CDT
END:DAYLIGHT
BEGIN:STANDARD
TZOFFSETFROM:-0500
TZOFFSETTO:-0600
DTSTART:20071104T020000
RRULE:FREQ=YEARLY;BYMONTH=11;BYDAY=1SU
TZNAME:CST
END:STANDARD
END:VTIMEZONE
BEGIN:VEVENT
UID:d50e9c3f-a0b7-4fb9-be04-3494845a6798.233337@calendar.missouristate.edu
CREATED:20231129T151421Z
LAST-MODIFIED:20231129T151421Z
LOCATION:Hill Hall 001
SUMMARY:2nd Annual Derivative Bee
DESCRIPTION:This is the Second Annual Derivative Bee. This event will take
  place at Hill Hall 001 on Thursday\, November 29th from 11:30 AM to 1:00
  PM. All are welcome.  \n\n\n It is a contest for students from local sch
 ools to determine who can correctly compute derivatives quickest. Pizza a
 nd drinks will be served at 11:00 AM.  
X-ALT-DESC;FMTTYPE=text/html:&lt;html&gt;&lt;head&gt;&lt;title&gt;&lt;/title&gt;&lt;/head&gt;&lt;body&gt;&lt;p al
 ign="center"&gt;This is the Second Annual Derivative Bee. This event will ta
 ke place at Hill Hall 001 on Thursday\, November 29th from 11:30 AM to 1:
 00 PM. All are welcome.&amp;nbsp\;&amp;nbsp\;&lt;/p&gt;\n&lt;p align="center"&gt;&amp;nbsp\;It is
  a contest for students from local schools to&amp;nbsp\;determine&lt;span&gt; &lt;/spa
 n&gt;who&lt;span&gt; &lt;/span&gt;can&lt;span&gt; &lt;/span&gt;correctly&lt;span&gt; &lt;/span&gt;compute&lt;span&gt; 
 &lt;/span&gt;derivatives&lt;span&gt; &lt;/span&gt;quickest.&lt;span&gt;&amp;nbsp\;&lt;/span&gt;&lt;span&gt;Pizza 
 and drinks will be served at 11:00 AM.&amp;nbsp\;&amp;nbsp\;&lt;br&gt;&lt;/span&gt;&lt;/p&gt;\n&lt;p a
 lign="center"&gt;&lt;/p&gt;\n&lt;p align="center"&gt;&lt;span&gt;&lt;/span&gt;&lt;/p&gt;&lt;/body&gt;&lt;/html&gt;
DTSTART;TZID=America/Chicago:20231130T110000
DTEND;TZID=America/Chicago:20231130T130000
SEQUENCE:0
URL:
CATEGORIES:Public
END:VEVENT
END:VCALENDAR