BEGIN:VCALENDAR
VERSION:2.0
METHOD:PUBLISH
PRODID:-//Missouri State University/Calendar of Events//EN
CALSCALE:GREGORIAN
X-WR-TIMEZONE:America/Chicago
BEGIN:VTIMEZONE
TZID:America/Chicago
BEGIN:DAYLIGHT
TZOFFSETFROM:-0600
TZOFFSETTO:-0500
DTSTART:20070311T020000
RRULE:FREQ=YEARLY;BYMONTH=3;BYDAY=2SU
TZNAME:CDT
END:DAYLIGHT
BEGIN:STANDARD
TZOFFSETFROM:-0500
TZOFFSETTO:-0600
DTSTART:20071104T020000
RRULE:FREQ=YEARLY;BYMONTH=11;BYDAY=1SU
TZNAME:CST
END:STANDARD
END:VTIMEZONE
BEGIN:VEVENT
UID:aeaa1406-6e0e-4d2c-b70d-6fa22af31103.233341@calendar.missouristate.edu
CREATED:20231129T180326Z
LAST-MODIFIED:20231129T180326Z
LOCATION:Plaster Student Union\, Robert W. 2nd Floor
SUMMARY:Academic Connection Fair
DESCRIPTION:Explore opportunities as you build your degree program (majors
  - minors - undergraduate certificates).\n\n\nConnect with people from yo
 ur academic college.\n\n\nLearn about campus resources available to help 
 you succeed.
X-ALT-DESC;FMTTYPE=text/html:&lt;html&gt;&lt;head&gt;&lt;title&gt;&lt;/title&gt;&lt;/head&gt;&lt;body&gt;&lt;p&gt;Ex
 plore opportunities as you build your degree program (majors - minors - u
 ndergraduate certificates).&lt;/p&gt;\n&lt;p&gt;Connect with people from your academi
 c college.&lt;/p&gt;\n&lt;p&gt;Learn about campus resources available to help you suc
 ceed.&lt;/p&gt;&lt;/body&gt;&lt;/html&gt;
DTSTART;TZID=America/Chicago:20240131T110000
DTEND;TZID=America/Chicago:20240131T130000
SEQUENCE:0
URL:
CATEGORIES:Current Students,Faculty,Future Students,Staff
END:VEVENT
END:VCALENDAR