BEGIN:VCALENDAR
VERSION:2.0
METHOD:PUBLISH
PRODID:-//Missouri State University/Calendar of Events//EN
CALSCALE:GREGORIAN
X-WR-TIMEZONE:America/Chicago
BEGIN:VTIMEZONE
TZID:America/Chicago
BEGIN:DAYLIGHT
TZOFFSETFROM:-0600
TZOFFSETTO:-0500
DTSTART:20070311T020000
RRULE:FREQ=YEARLY;BYMONTH=3;BYDAY=2SU
TZNAME:CDT
END:DAYLIGHT
BEGIN:STANDARD
TZOFFSETFROM:-0500
TZOFFSETTO:-0600
DTSTART:20071104T020000
RRULE:FREQ=YEARLY;BYMONTH=11;BYDAY=1SU
TZNAME:CST
END:STANDARD
END:VTIMEZONE
BEGIN:VEVENT
UID:64898d69-54b9-4e3c-93b5-f7bbee127b08.233343@calendar.missouristate.edu
CREATED:20231129T183022Z
LAST-MODIFIED:20231129T183022Z
LOCATION:Plaster Student Union\, Robert W. Theater\, Room 200
SUMMARY:SAC Blockbuster
DESCRIPTION:Enjoy a hit blockbuster movie with SAC. Free food and themed p
 rizes!
X-ALT-DESC;FMTTYPE=text/html:&lt;html&gt;&lt;head&gt;&lt;title&gt;&lt;/title&gt;&lt;/head&gt;&lt;body&gt;&lt;p&gt;En
 joy a hit blockbuster movie with SAC. Free food and themed prizes!&lt;/p&gt;&lt;/b
 ody&gt;&lt;/html&gt;
DTSTART;TZID=America/Chicago:20240221T000000
DTEND;TZID=America/Chicago:20240221T000000
SEQUENCE:0
URL:122596.png
CATEGORIES:Public,Current Students
END:VEVENT
END:VCALENDAR